BEGIN:VCALENDAR
VERSION:2.0
PRODID:-//ChamberMaster//Event Calendar 2.0//EN
METHOD:PUBLISH
X-PUBLISHED-TTL:P3D
REFRESH-INTERVAL:P3D
CALSCALE:GREGORIAN
BEGIN:VEVENT
DTSTART:20180416T050000Z
DTEND:20180416T090000Z
X-MICROSOFT-CDO-ALLDAYEVENT:FALSE
SUMMARY:BRI Business Dialogue: Navigating Infrastructure Opportunities for Fruitful Collaboration
DESCRIPTION:Belt & Road Initiative: Navigating Opportunities for Fruitful Collaboration
X-ALT-DESC;FMTTYPE=text/html:Belt &amp\; Road Initiative: Navigating Opportunities for Fruitful Collaboration
LOCATION:Singapore Business Federation\, 160 Robinson Road\, #06-01 SBF Center\, Singapore 068914
UID:e.9078.6511
SEQUENCE:3
DTSTAMP:20260419T202630Z
URL:http://usasean.memberzone.com/events/details/bri-business-dialogue-navigating-infrastructure-opportunities-for-fruitful-collaboration-6511
END:VEVENT

END:VCALENDAR
