BEGIN:VCALENDAR
VERSION:2.0
PRODID:-//ChamberMaster//Event Calendar 2.0//EN
METHOD:PUBLISH
X-PUBLISHED-TTL:P3D
REFRESH-INTERVAL:P3D
CALSCALE:GREGORIAN
BEGIN:VEVENT
DTSTART:20130605T123000Z
DTEND:20130605T140000Z
X-MICROSOFT-CDO-ALLDAYEVENT:FALSE
SUMMARY:Breakfast With Ambassador Mirpuri and Singapore Ministry of Manpower in DC
DESCRIPTION:The Council and the Singapore Embassy invite you for a breakfast session hosted by Ambassador Mirpuri on June 5\, 2013 from 8:30 a.m.- 10 a.m. at the Singapore Embassy in DC.   \n\n\n\nIn addition to this quarterly briefing with Ambassador\, a delegation from the Ministry of Manpower\, led by Mr. Augustin Lee\, Deputy Secretary\, will be attendance and is interested to meet with U.S. firms to discuss the latest developments in regards to Singapore manpower/labor policies.  The Ministry would also be interested to hear from members about other manpower-related issues of interest to U.S. firms.
X-ALT-DESC;FMTTYPE=text/html:The Council and the Singapore Embassy invite you for a breakfast session hosted by Ambassador Mirpuri on June 5\, 2013 from 8:30 a.m.- 10 a.m. at the Singapore Embassy in DC. &nbsp\;&nbsp\;<br />\n<br />\nIn addition to this quarterly briefing with Ambassador\, a delegation from the Ministry of Manpower\, led by Mr. Augustin Lee\, Deputy Secretary\, will be attendance and is interested to meet with U.S. firms to discuss the latest developments in regards to Singapore manpower/labor policies. &nbsp\;The Ministry would also be interested to hear from members about other manpower-related issues of interest to U.S. firms.&nbsp\;
LOCATION:Embassy of the Republic of Singapore-3501 International Pl NW Washington\, DC 20008
UID:e.9078.788
SEQUENCE:3
DTSTAMP:20260421T210341Z
URL:http://usasean.memberzone.com/events/details/breakfast-with-ambassador-mirpuri-and-singapore-ministry-of-manpower-in-dc-06-05-2013-788
END:VEVENT

END:VCALENDAR
