BEGIN:VCALENDAR
VERSION:2.0
PRODID:-//ChamberMaster//Event Calendar 2.0//EN
METHOD:PUBLISH
X-PUBLISHED-TTL:P3D
REFRESH-INTERVAL:P3D
CALSCALE:GREGORIAN
BEGIN:VEVENT
DTSTART:20190730T130000Z
DTEND:20190730T150000Z
X-MICROSOFT-CDO-ALLDAYEVENT:FALSE
SUMMARY:Breakfast Meeting on Economic Potentials and Investment Opportunities in the Fakfak Regency of West Papua\, Indonesia
DESCRIPTION:A Breakfast Meeting on "Economic Potentials and Investment Opportunities in the Fakfak Region of West Papua\, Indonesia"
X-ALT-DESC;FMTTYPE=text/html:A Breakfast Meeting on &quot\;Economic Potentials and Investment Opportunities in the Fakfak Region of West Papua\, Indonesia&quot\;
LOCATION:Indonesian Embassy 2020 Massachusetts Ave NW Washington\, DC 20036
UID:e.9078.7977
SEQUENCE:3
DTSTAMP:20260425T001944Z
URL:http://usasean.memberzone.com/events/details/breakfast-meeting-on-economic-potentials-and-investment-opportunities-in-the-fakfak-regency-of-west-papua-indonesia-7977
END:VEVENT

END:VCALENDAR
