BEGIN:VCALENDAR
VERSION:2.0
PRODID:-//ChamberMaster//Event Calendar 2.0//EN
METHOD:PUBLISH
X-PUBLISHED-TTL:P3D
REFRESH-INTERVAL:P3D
CALSCALE:GREGORIAN
BEGIN:VEVENT
DTSTART:20140502T123000Z
DTEND:20140502T140000Z
X-MICROSOFT-CDO-ALLDAYEVENT:FALSE
SUMMARY:Breakfast In Honor of Vice President Jejomar Binay of the Philippines
DESCRIPTION:
X-ALT-DESC;FMTTYPE=text/html:
LOCATION:
UID:e.9078.1124
SEQUENCE:3
DTSTAMP:20260420T125928Z
URL:http://usasean.memberzone.com/events/details/breakfast-in-honor-of-vice-president-jejomar-binay-of-the-philippines-05-02-2014-1124
END:VEVENT

END:VCALENDAR
