BEGIN:VCALENDAR
VERSION:2.0
PRODID:-//ChamberMaster//Event Calendar 2.0//EN
METHOD:PUBLISH
X-PUBLISHED-TTL:P3D
REFRESH-INTERVAL:P3D
CALSCALE:GREGORIAN
BEGIN:VEVENT
DTSTART:20130417T120000Z
DTEND:20130417T140000Z
X-MICROSOFT-CDO-ALLDAYEVENT:FALSE
SUMMARY:Breakfast Dialogue with Indonesia Ministry of Finance
DESCRIPTION:Dialogue on tax\, fiscal and subsidy policies in Indonesia.
X-ALT-DESC;FMTTYPE=text/html:Dialogue on tax\, fiscal and subsidy policies in Indonesia.
LOCATION:Cosmos Club
UID:e.9078.736
SEQUENCE:3
DTSTAMP:20260422T024110Z
URL:http://usasean.memberzone.com/events/details/breakfast-dialogue-with-indonesia-ministry-of-finance-04-17-2013-736
END:VEVENT

END:VCALENDAR
