BEGIN:VCALENDAR
VERSION:2.0
PRODID:-//ChamberMaster//Event Calendar 2.0//EN
METHOD:PUBLISH
X-PUBLISHED-TTL:P3D
REFRESH-INTERVAL:P3D
CALSCALE:GREGORIAN
BEGIN:VEVENT
DTSTART:20180301T130000Z
DTEND:20180301T140000Z
X-MICROSOFT-CDO-ALLDAYEVENT:FALSE
SUMMARY:Breakfast Briefing with H.E. Budi Bowoleksono\, Ambassador of Indonesia to the United States
DESCRIPTION:Breakfast Briefing and Final Planning Call for the 2018 Indonesia Business Mission featuring His Excellency Budi Bowoleksono\, Ambassador of Indonesia to the United States\n\n \nAmbassador Budi Bowoleksono is currently the Ambassador Extraordinary and Plenipotentiary of the Republic of Indonesia to the United States of America. He presented his letters of credence to the President on May 21\, 2014. Prior to assuming his present assignment\, Ambassador Bowoleksono was the Secretary General of the Ministry of Foreign Affairs of the Republic of Indonesia.\n\nPreviously\, Ambassador Bowoleksono served as the Ambassador Extraordinary and Plenipotentiary of the Republic of Indonesia to the Republic of Kenya in Nairobi (2008-2010)\, which also covers Seychelles\, Mauritius\, Uganda\, UNEP\, and UNHCR.\n\nAmbassador Bowoleksono graduated from Krisnadwipayana University in Jakarta in 1984. He started his diplomatic career at the Ministry of Foreign Affairs in 1986 and since then he had been assigned to the Permanent Mission of the Republic of Indonesia to the United Nations in New York\, the Indonesian Permanent Mission in Geneva\, and the Indonesian Permanent Mission in Vienna.\n\nIn the Ministry of Foreign Affairs\, he was assigned at various offices such as Directorate General of Foreign Economic Relations\; Directorate General of ASEAN Cooperation\; Directorate General of Multilateral Affairs\; and the Secretariat General.\n\nAmbassador Bowoleksono is married to Reshanty Bowoleksono who is also a career diplomat in the Ministry of Foreign Affairs and blessed with a son\, Lebdo Handaru Bowoleksono.
X-ALT-DESC;FMTTYPE=text/html:<br />\n<span style="box-sizing: content-box\; bottom: auto\; clear: none\; color: rgb(68\, 68\, 68)\; content: normal\; direction: inherit\; empty-cells: show\; font-variant-numeric: inherit\; font-variant-east-asian: inherit\; font-stretch: inherit\; font-size: 16px\; font-family: Arial\, Helvetica\, sans-serif\; left: auto\; line-height: inherit\; margin: 0px\; max-height: none\; max-width: none\; min-height: initial\; min-width: initial\; opacity: 1\; outline-offset: 0px\; overflow: visible\; padding: 0px\; position: static\; resize: none\; right: auto\; table-layout: auto\; text-overflow: clip\; top: auto\; vertical-align: baseline\; visibility: inherit\; word-break: inherit\; word-wrap: inherit\; z-index: auto\; background-image: none\; background-position: initial\; background-size: initial\; background-repeat: initial\; background-attachment: initial\; background-origin: initial\; background-clip: initial\; border: none\; border-collapse: separate\; border-radius: 0px\; height: auto\; width: auto\; box-shadow: none\;"><span style="box-sizing: content-box\; bottom: auto\; clear: none\; color: inherit\; content: normal\; direction: inherit\; empty-cells: show\; font-style: inherit\; font-variant: inherit\; font-weight: 700\; font-stretch: inherit\; font-size: inherit\; font-family: arial\; left: auto\; letter-spacing: 1px\; line-height: inherit\; margin: 0px\; max-height: none\; max-width: none\; min-height: initial\; min-width: initial\; opacity: 1\; outline-offset: 0px\; overflow: visible\; padding: 0px\; position: static\; resize: none\; right: auto\; table-layout: auto\; text-align: center\; text-indent: inherit\; text-overflow: clip\; text-transform: inherit\; top: auto\; vertical-align: baseline\; visibility: inherit\; white-space: inherit\; word-break: inherit\; word-spacing: inherit\; word-wrap: inherit\; z-index: auto\; background: none\; border: none\; border-collapse: separate\; border-radius: 0px\; height: auto\; width: auto\; box-shadow: none\;">Breakfast Briefing and Final Planning Call&nbsp\;for the&nbsp\;2018 Indonesia Business Mission&nbsp\;featuring His Excellency Budi Bowoleksono\,&nbsp\;Ambassador of Indonesia to the United States</span></span><br />\n&nbsp\;\n<p style="box-sizing: border-box\; border: 0px\; font-size: 16px\; margin: 0px 0px 30px\; outline: 0px\; padding: 0px\; vertical-align: baseline\; word-wrap: break-word\; color: rgb(68\, 68\, 68)\; font-family: &quot\;Roboto Slab&quot\;\; text-align: justify\;"><span style="font-size:14px\;"><span style="font-family:arial\;">Ambassador Budi Bowoleksono is currently the Ambassador Extraordinary and Plenipotentiary of the Republic of Indonesia to the United States of America.&nbsp\;He presented his letters of credence to the President on May 21\, 2014. Prior to assuming his present assignment\, Ambassador Bowoleksono&nbsp\;was the&nbsp\;Secretary General of the Ministry of Foreign Affairs of the Republic of Indonesia.</span></span></p>\n\n<p style="box-sizing: border-box\; border: 0px\; font-size: 16px\; margin: 0px 0px 30px\; outline: 0px\; padding: 0px\; vertical-align: baseline\; word-wrap: break-word\; color: rgb(68\, 68\, 68)\; font-family: &quot\;Roboto Slab&quot\;\; text-align: justify\;"><span style="font-size:14px\;"><span style="font-family:arial\;">Previously\, Ambassador Bowoleksono served as the Ambassador Extraordinary and Plenipotentiary of the Republic of Indonesia to the Republic of Kenya in Nairobi (2008-2010)\, which also covers Seychelles\, Mauritius\, Uganda\, UNEP\, and UNHCR.</span></span></p>\n\n<p style="box-sizing: border-box\; border: 0px\; font-size: 16px\; margin: 0px 0px 30px\; outline: 0px\; padding: 0px\; vertical-align: baseline\; word-wrap: break-word\; color: rgb(68\, 68\, 68)\; font-family: &quot\;Roboto Slab&quot\;\; text-align: justify\;"><span style="font-size:14px\;"><span style="font-family:arial\;">Ambassador Bowoleksono graduated from Krisnadwipayana University in Jakarta in 1984. He started his diplomatic career at the Ministry of Foreign Affairs in 1986 and since then he had been assigned to the Permanent Mission of the Republic of Indonesia to the United Nations in New York\, the Indonesian Permanent Mission in Geneva\, and the Indonesian Permanent Mission in Vienna.</span></span></p>\n\n<p style="box-sizing: border-box\; border: 0px\; font-size: 16px\; margin: 0px 0px 30px\; outline: 0px\; padding: 0px\; vertical-align: baseline\; word-wrap: break-word\; color: rgb(68\, 68\, 68)\; font-family: &quot\;Roboto Slab&quot\;\; text-align: justify\;"><span style="font-size:14px\;"><span style="font-family:arial\;">In the Ministry of Foreign Affairs\, he was assigned at various offices such as Directorate General of Foreign Economic Relations\; Directorate General of ASEAN Cooperation\; Directorate General of Multilateral Affairs\; and the Secretariat General.</span></span></p>\n\n<p style="box-sizing: border-box\; border: 0px\; font-size: 16px\; margin: 0px 0px 30px\; outline: 0px\; padding: 0px\; vertical-align: baseline\; word-wrap: break-word\; color: rgb(68\, 68\, 68)\; font-family: &quot\;Roboto Slab&quot\;\; text-align: justify\;"><span style="font-size:14px\;"><span style="font-family:arial\;">Ambassador Bowoleksono is married to Reshanty Bowoleksono who is also a career diplomat in the Ministry of Foreign Affairs and blessed with a son\, Lebdo Handaru Bowoleksono.</span></span></p>\n<br style="box-sizing: content-box\; bottom: auto\; clear: none\; color: rgb(68\, 68\, 68)\; content: normal\; direction: inherit\; display: inline\; empty-cells: show\; float: none\; font-variant-numeric: inherit\; font-variant-east-asian: inherit\; font-stretch: inherit\; font-size: 14px\; font-family: Arial\, Helvetica\, sans-serif\; left: auto\; line-height: inherit\; margin: 0px\; max-height: none\; max-width: none\; min-height: initial\; min-width: initial\; opacity: 1\; outline-offset: 0px\; overflow: visible\; padding: 0px\; position: static\; resize: none\; right: auto\; table-layout: auto\; text-overflow: clip\; top: auto\; vertical-align: baseline\; visibility: inherit\; word-break: inherit\; word-wrap: inherit\; z-index: auto\; background-image: none\; background-position: initial\; background-size: initial\; background-repeat: initial\; background-attachment: initial\; background-origin: initial\; background-clip: initial\; border: none\; border-collapse: separate\; border-radius: 0px\; height: auto\; width: auto\;" />\n<span style="color: rgb(68\, 68\, 68)\; font-family: Arial\, Helvetica\, sans-serif\; font-size: 14px\;">&nbsp\;</span>
LOCATION:The Residence of Ambassador of Indonesia to the United States Washington\, DC
UID:e.9078.6483
SEQUENCE:3
DTSTAMP:20260419T184558Z
URL:http://usasean.memberzone.com/events/details/breakfast-briefing-with-h-e-budi-bowoleksono-ambassador-of-indonesia-to-the-united-states-6483
END:VEVENT

END:VCALENDAR
