BEGIN:VCALENDAR
VERSION:2.0
PRODID:-//ChamberMaster//Event Calendar 2.0//EN
METHOD:PUBLISH
X-PUBLISHED-TTL:P3D
REFRESH-INTERVAL:P3D
CALSCALE:GREGORIAN
BEGIN:VEVENT
DTSTART:20181204T140000Z
DTEND:20181204T160000Z
X-MICROSOFT-CDO-ALLDAYEVENT:FALSE
SUMMARY:Breakfast Briefing with Chairman and Members of Indonesian Parliament Commission I
DESCRIPTION:We are pleased to extend an invitation from the Embassy of Indonesia for a breakfast briefing with Chairman Abdul Kharis Almasyhari from Commission 1 of Indonesia's House of Representatives (DPR) on cyber security\, broadcasting\, data localization and OTT\, among others. Vice Chairman Satya Widya Yudha will also join the briefing\, with a number of parliamentarians from the same committee. \n\n\n\nCommission 1 DPR oversees information and foreign affairs\, defense\, and military intelligence (similar functions to the Foreign Relations Committee\, Intelligence\, Committee and Armed Services Committee in the US Senate). A direct engagement is a valuable opportunity to understand the Indonesian parliament's priorities for Indonesia's policy shaping platform going forward. \n\n\n\nIf you have any questions\, please contact Artha Sirait at asirait@usasean.org and Irma Rismayati at rismayati@embassyofindonesia.org.
X-ALT-DESC;FMTTYPE=text/html:We are pleased to extend an invitation from the Embassy of Indonesia for a breakfast briefing with Chairman Abdul Kharis Almasyhari from Commission 1 of Indonesia&#39\;s House of Representatives (DPR) on cyber security\, broadcasting\, data localization and OTT\, among others. Vice Chairman Satya Widya Yudha will also join the briefing\, with a number of parliamentarians from the same committee.&nbsp\;<br />\n<br />\nCommission 1 DPR oversees information and foreign affairs\, defense\, and military intelligence (similar functions to the Foreign Relations Committee\, Intelligence\, Committee and Armed Services Committee in the US Senate). A direct engagement is a valuable opportunity to understand the Indonesian parliament&#39\;s priorities for Indonesia&#39\;s policy shaping platform going forward.&nbsp\;<br />\n<br />\nIf you have any questions\, please contact Artha Sirait at asirait@usasean.org and Irma Rismayati at rismayati@embassyofindonesia.org.&nbsp\;
LOCATION:Embassy of Indonesia 2020 Massachusetts Ave NW Washington\, DC 20036
UID:e.9078.7757
SEQUENCE:3
DTSTAMP:20260425T125840Z
URL:http://usasean.memberzone.com/events/details/breakfast-briefing-with-chairman-and-members-of-indonesian-parliament-commission-i-7757
END:VEVENT

END:VCALENDAR
