BEGIN:VCALENDAR
VERSION:2.0
PRODID:-//ChamberMaster//Event Calendar 2.0//EN
METHOD:PUBLISH
X-PUBLISHED-TTL:P3D
REFRESH-INTERVAL:P3D
CALSCALE:GREGORIAN
BEGIN:VEVENT
DTSTART:20180831T000000Z
DTEND:20180831T010000Z
X-MICROSOFT-CDO-ALLDAYEVENT:FALSE
SUMMARY:Breakfast Briefing with Assistant Secretary Manisha Singh
DESCRIPTION:The US-ASEAN Business Council and AmCham Singapore are pleased to invite you to a breakfast briefing featuring Manisha Singh\, Assistant Secretary of State for Economic and Business Affairs.
X-ALT-DESC;FMTTYPE=text/html:<span style="color:black\;">The US-ASEAN Business Council and AmCham Singapore are pleased to invite you to a breakfast briefing featuring Manisha Singh\, Assistant Secretary of State for Economic and Business Affairs.</span>
LOCATION:
UID:e.9078.7657
SEQUENCE:3
DTSTAMP:20260420T051723Z
URL:http://usasean.memberzone.com/events/details/breakfast-briefing-with-assistant-secretary-manisha-singh-7657
END:VEVENT

END:VCALENDAR
