BEGIN:VCALENDAR
VERSION:2.0
PRODID:-//ChamberMaster//Event Calendar 2.0//EN
METHOD:PUBLISH
X-PUBLISHED-TTL:P3D
REFRESH-INTERVAL:P3D
CALSCALE:GREGORIAN
BEGIN:VEVENT
DTSTART:20180130T003000Z
DTEND:20180130T020000Z
X-MICROSOFT-CDO-ALLDAYEVENT:FALSE
SUMMARY:Breakfast Briefing with Acting Assistant USTR Karl Ehlers in Jakarta
DESCRIPTION:The Embassy is preparing to host Acting AUSTR Karl Ehlers in Jakarta on January 29 and 30.  As part of this visit\, they would very much like to arrange a joint briefing for AmCham and USABC members while he is here so that he can share some of USTR's perspectives and hear from industry about their concerns in Indonesia.  \n\n\n\nKarl will give a brief overview of U.S.-Indonesia Trade Relations and his meetings in Jakarta\, which will include discussion of the National Payment Gateway\, OTT regulation\, data localization\, and digital trade\, among others.
X-ALT-DESC;FMTTYPE=text/html:<span style="color:black\;"><span style="font-family:calibri\,sans-serif\;"><span style="font-size:11.0pt\;">The Embassy is preparing to host Acting AUSTR Karl Ehlers in Jakarta on January 29 and 30.&nbsp\; As part of this visit\, they would very much like to arrange a joint briefing for AmCham and USABC members while he is here so that he can share some of USTR&rsquo\;s perspectives and hear from industry about their concerns in Indonesia.&nbsp\; </span></span></span><br />\n<br />\n<span style="color:black\;"><span style="font-family:calibri\,sans-serif\;"><span style="font-size:11.0pt\;">Karl will give a brief overview of U.S.-Indonesia Trade Relations and his meetings in Jakarta\, which will include discussion of the National Payment Gateway\, OTT regulation\, data localization\, and digital trade\, among others.&nbsp\;&nbsp\; </span></span></span>
LOCATION:FCS Office World Trade Center VI\, 3rd Floor Jl. Jendral Sudirman Kav. 29-31. Jakarta 12920
UID:e.9078.6459
SEQUENCE:3
DTSTAMP:20260419T145506Z
URL:http://usasean.memberzone.com/events/details/breakfast-briefing-with-acting-assistant-ustr-karl-ehlers-in-jakarta-6459
END:VEVENT

END:VCALENDAR
