BEGIN:VCALENDAR
VERSION:2.0
PRODID:-//ChamberMaster//Event Calendar 2.0//EN
METHOD:PUBLISH
X-PUBLISHED-TTL:P3D
REFRESH-INTERVAL:P3D
CALSCALE:GREGORIAN
BEGIN:VEVENT
DTSTART:20191007T220000Z
DTEND:20191008T000000Z
X-MICROSOFT-CDO-ALLDAYEVENT:FALSE
SUMMARY:Book Launch: Mapping ASEAN by Amb. David Carden (Ret.)
DESCRIPTION:Please join us for the launch of Mapping ASEAN: Achieving Peace\, Properity\, and Sustainability in Southeast Asia\, the recent book by Amb. David L. Carden (Ret.). The book describes\, or "maps"\, the many human and natural systems upon which the region depends\, how they relate and affect one another\, and the multilateral mechanism and approaches needed to manage both the opportunities and challenges they present. It has chapters on the US pivot to Asia\; how to take a systems approach to achieving ASEAN's goals\; the need to invest in ASEAN's people\, data and information\; the role of governance and the rule of law with regard to achieving ASEAN's goals\; the potential impact of climate change and environmental degradation\; China's role in the region and the South China Sea\; the role of the the private sector\; and the need for a new approach to diplomacy to complement the ones in use currently. Each of these chapters draws on Amb. Carden's experience as the first U.S. resident ambassador to ASEAN\, as well as his research and hopes for the region.\n\n\n\nPlease RSVP by October 4 to WashingtonRSVP@jonesday.com.\n\n\n\nAbout the Author\n\n\n\nDavid. L. Carden was the first resident U.S. ambassador to ASEAN. The approach taken by the U.S. Mission to ASEAN under his leadership was based on understanding\, promoting\, and protecting the human and natural systems upon which the region depends and earned him the U.S. Department of State's Superior Honor award. A former partner at the international law firm Jones Day\, Carden also serves as the chairman of the advisory board for the Center for Rural Engagement at Indiana University\, where he continues his work with communities to research and implement evidence-based\, scalable solutions to the challenges they face.
X-ALT-DESC;FMTTYPE=text/html:Please join us for the launch of <em>Mapping ASEAN: Achieving Peace\, Properity\, and Sustainability in Southeast Asia</em>\, the recent book by Amb. David L. Carden (Ret.).&nbsp\;The book describes\, or &ldquo\;maps&rdquo\;\, the many human and natural systems upon which the region depends\, how they relate and affect one another\, and the multilateral mechanism and approaches needed to manage both the opportunities and challenges they present. It has chapters on the US pivot to Asia\; how to take a systems approach to achieving ASEAN&rsquo\;s goals\; the need to invest in ASEAN&rsquo\;s people\, data and information\; the role of governance and the rule of law with regard to achieving ASEAN&rsquo\;s goals\; the potential impact of climate change and environmental degradation\; China&rsquo\;s role in the region and the South China Sea\; the role of the the private sector\; and the need for a new approach to diplomacy to complement the ones in use currently. Each of these chapters draws on Amb. Carden&#39\;s experience as the&nbsp\;<span style="font-family: Arial\, sans-serif\; font-size: 14px\;">first U.S. resident ambassador to ASEAN</span>\, as well as his research and hopes for the region.<br />\n<br />\n<strong><span style="color:#FF0000\;">Please RSVP by October 4 to</span> WashingtonRSVP@jonesday.com.</strong><br />\n<br />\n<strong>About the Author</strong><br />\n<br />\nDavid. L. Carden was the first resident U.S. ambassador to ASEAN. The approach taken by the U.S. Mission to ASEAN under his leadership was based on understanding\, promoting\, and protecting the human and natural systems upon which the region depends and earned him the U.S. Department of State&rsquo\;s Superior Honor award. A former partner at the international law firm Jones Day\, Carden also serves as the chairman of the advisory board for the Center for Rural Engagement at Indiana University\, where he continues his work with communities to research and implement evidence-based\, scalable solutions to the challenges they face.
LOCATION:Jones Day 300 New Jersey Avenue NW
UID:e.9078.8040
SEQUENCE:3
DTSTAMP:20260424T195030Z
URL:http://usasean.memberzone.com/events/details/book-launch-mapping-asean-by-amb-david-carden-ret-8040
END:VEVENT

END:VCALENDAR
