BEGIN:VCALENDAR
VERSION:2.0
PRODID:-//ChamberMaster//Event Calendar 2.0//EN
METHOD:PUBLISH
X-PUBLISHED-TTL:P3D
REFRESH-INTERVAL:P3D
CALSCALE:GREGORIAN
BEGIN:VEVENT
DTSTART:20181001T050000Z
DTEND:20181001T093000Z
X-MICROSOFT-CDO-ALLDAYEVENT:FALSE
SUMMARY:Bloomberg Modern Markets Conference\, Bali
DESCRIPTION:How do you build a vibrant market environment that global investors simply can't ignore? Find out at our Modern Markets event\, where the biggest names in global business will convene for an afternoon of candid conversation on the most effective ways for policy-makers\, corporations and tech innovators to create opportunity across Asia's rapidly modernizing economies.
X-ALT-DESC;FMTTYPE=text/html:How do you build a vibrant market environment that global investors simply can&rsquo\;t ignore? Find out at our Modern Markets event\, where the biggest names in global business will convene for an afternoon of candid conversation on the most effective ways for policy-makers\, corporations and tech innovators to create opportunity across Asia&rsquo\;s rapidly modernizing economies.
LOCATION:Conrad Hotel Bali
UID:e.9078.7706
SEQUENCE:3
DTSTAMP:20260420T070100Z
URL:http://usasean.memberzone.com/events/details/bloomberg-modern-markets-conference-bali-7706
END:VEVENT

END:VCALENDAR
