BEGIN:VCALENDAR
VERSION:2.0
PRODID:-//ChamberMaster//Event Calendar 2.0//EN
METHOD:PUBLISH
X-PUBLISHED-TTL:P3D
REFRESH-INTERVAL:P3D
CALSCALE:GREGORIAN
BEGIN:VEVENT
DTSTART:20130530T130000Z
DTEND:20130530T180000Z
X-MICROSOFT-CDO-ALLDAYEVENT:FALSE
SUMMARY:BKPM Market Sounding of Indonesia's PPP Infrastructure Projects
DESCRIPTION:The Government of Indonesia (GoI) encourages private sector participation in infrastructure development through Public Private Partnerships (PPPs). The Indonesia Investment Coordinating Board (BKPM)\, the front office of PPP Projects in Indonesia\, in collaboration with the Embassy of the Republic of Indonesia in Washington D.C. and the Consulate General of the Republic of Indonesia in New York\, will host this Infrastructure market sounding event in New York.\n\n	 \n\n	Please see the invitation and agenda for more details.\n\n	Please note\, H.E. Dr. Chatib Basri\, Chairman of BKPM will deliver the keynote speech.\n\n	 \n\n	For questions please contact Alexandra Stuart at astuart@usasean.org
X-ALT-DESC;FMTTYPE=text/html:<div>\n	The Government of Indonesia (GoI) encourages private sector participation in infrastructure development through Public Private Partnerships (PPPs). The Indonesia Investment Coordinating Board (BKPM)\, the front office of PPP Projects in Indonesia\, in collaboration with the Embassy of the Republic of Indonesia in Washington D.C. and the Consulate General of the Republic of Indonesia in New York\, will host this Infrastructure market sounding event in New York.</div>\n<div>\n	&nbsp\;</div>\n<div>\n	Please see the <a href="http://cloud.chambermaster.com/userfiles/UserFiles/chambers/9078/File/MarketSoundingNY30thMay.pdf">invitation and agenda</a>&nbsp\;for more details.</div>\n<div>\n	Please note\, H.E. Dr. Chatib Basri\, Chairman of BKPM will deliver the keynote speech.</div>\n<div>\n	&nbsp\;</div>\n<div>\n	For questions please contact Alexandra Stuart at <a href="mailto:astuart@usasean.org?subject=question%20about%20BKPM%20Market%20Sounding%2C%20May%2030th">astuart@usasean.org</a></div>\n<div>\n	&nbsp\;</div>\n
LOCATION:The Omni Berkshire Hotel\, New York 21 East 52nd Street\, Midtown East New York\, NY 10022
UID:e.9078.776
SEQUENCE:3
DTSTAMP:20260422T003607Z
URL:http://usasean.memberzone.com/events/details/bkpm-market-sounding-of-indonesia-s-ppp-infrastructure-projects-05-30-2013-776
END:VEVENT

END:VCALENDAR
