BEGIN:VCALENDAR
VERSION:2.0
PRODID:-//ChamberMaster//Event Calendar 2.0//EN
METHOD:PUBLISH
X-PUBLISHED-TTL:P3D
REFRESH-INTERVAL:P3D
CALSCALE:GREGORIAN
BEGIN:VEVENT
DTSTART:20140129T030000Z
DTEND:20140129T040000Z
X-MICROSOFT-CDO-ALLDAYEVENT:FALSE
SUMMARY:Bambang Heru KOMINFO Meeting
DESCRIPTION:Jakarta KOMINFO Meeting
X-ALT-DESC;FMTTYPE=text/html:Jakarta KOMINFO Meeting
LOCATION:Ministry of Communications & Information Jakarta\, Indonesia
UID:e.9078.1020
SEQUENCE:3
DTSTAMP:20260421T035653Z
URL:http://usasean.memberzone.com/events/details/bambang-heru-kominfo-meeting-01-28-2014-1020
END:VEVENT

END:VCALENDAR
