BEGIN:VCALENDAR
VERSION:2.0
PRODID:-//ChamberMaster//Event Calendar 2.0//EN
METHOD:PUBLISH
X-PUBLISHED-TTL:P3D
REFRESH-INTERVAL:P3D
CALSCALE:GREGORIAN
BEGIN:VEVENT
DTSTART:20130903T170000Z
DTEND:20130903T210000Z
X-MICROSOFT-CDO-ALLDAYEVENT:FALSE
SUMMARY:AYEC Talk 2013
DESCRIPTION:The acronym AYEC stands for ASEAN Youth (for) Economic Community. The objective of the AYEC Talk 2013 is to raise awareness on the human capital opportunities for Thai and International companies regarding AEC 2015 and to discuss private sector perspectives and priorities for the development of Thailand's next-generation workforce to be regionally-focused and globally-minded.
X-ALT-DESC;FMTTYPE=text/html:<span style="color:black\;">The acronym AYEC stands for ASEAN </span><span style="color:red\;">Youth</span><span style="color:black\;"> (for) Economic Community. </span>The objective of the AYEC Talk 2013 is to raise awareness on the human capital opportunities for Thai and International companies regarding AEC 2015 and to discuss private sector perspectives and priorities for the development of Thailand&rsquo\;s next-generation workforce to be regionally-focused and globally-minded.&nbsp\;
LOCATION:Mahachula Building\, Chulalongkorn University
UID:e.9078.901
SEQUENCE:3
DTSTAMP:20260421T210947Z
URL:http://usasean.memberzone.com/events/details/ayec-talk-2013-09-03-2013-901
END:VEVENT

END:VCALENDAR
