BEGIN:VCALENDAR
VERSION:2.0
PRODID:-//ChamberMaster//Event Calendar 2.0//EN
METHOD:PUBLISH
X-PUBLISHED-TTL:P3D
REFRESH-INTERVAL:P3D
CALSCALE:GREGORIAN
BEGIN:VEVENT
DTSTART:20200421T010000Z
DTEND:20200421T100000Z
X-MICROSOFT-CDO-ALLDAYEVENT:FALSE
SUMMARY:AVCJ 9th Annual Indonesia Forum
DESCRIPTION:For 9 years\, the AVCJ Indonesia Forum has been THE meeting place for the leaders of the alternative investments industry in the region. From private equity funds\, institutional investors to leading corporations and startups\, the AVCJ Forum is where the ecosystem gathers once a year to exchange ideas\, catch up with friends and meet future business partners.\n\n \n\nJoin over 280 attendees in Jakarta when investment leaders from across Asia meet for a day of cutting-edge industry debate on domestic\, regional and global issues.\n\n \n\nJoin the discussions and gain the benefits:\n\n	Network: Meet a diverse and powerful group of international LPs\, GPs\, regional strategic investors and leading startups\n	Discover: Where does Indonesia fit in the investment landscape\n	Hear: The latest on valuations and exits in the current environment\n	Insight: Achieving sustainable and profitable growth\n	Uncover: The role of venture capital in value creation\n	Find out: How to address infrastructure and logistics challenges in building for the future\n\n   Download the brochure here\n\n\n\n   Click here for the latest update\n\n \n\nMake sure you are present at the country's longest running industry event to find out the latest on deal sourcing\, exit opportunities\, the fundraising market whilst networking with a host of LPs from across the globe.\n\nUS-ASEAN Business Council members can enjoy a US$100 off the early bird rate if you book before 21st February\, and 25% DISCOUNT off the standard rate after 21st February\, to attend the Forum. \n\n \n\nHOW TO REGISTER:\n\nBook online by clicking here\, email book@avcj.com or call +852 2158 9636 and quote the discount code USABC_INDO20.
X-ALT-DESC;FMTTYPE=text/html:For 9 years\, the AVCJ Indonesia Forum has been THE meeting place for the leaders of the alternative investments industry in the region. From private equity funds\, institutional investors to leading corporations and startups\, the AVCJ Forum is where the ecosystem gathers once a year to exchange ideas\, catch up with friends and meet future business partners.<br />\n&nbsp\;<br />\nJoin over 280 attendees in Jakarta when investment leaders from across Asia meet for a day of cutting-edge industry debate on domestic\, regional and global issues.<br />\n&nbsp\;<br />\nJoin the discussions and gain the benefits:\n<ul>\n	<li>Network: Meet a diverse and powerful group of international LPs\, GPs\, regional strategic investors and leading startups</li>\n	<li>Discover: Where does Indonesia fit in the investment landscape</li>\n	<li>Hear: The latest on valuations and exits in the current environment</li>\n	<li>Insight: Achieving sustainable and profitable growth</li>\n	<li>Uncover: The role of venture capital in value creation</li>\n	<li>Find out: How to address infrastructure and logistics challenges in building for the future</li>\n</ul>\n&gt\;&gt\; <a href="http://bit.ly/3aqnGHj"><strong>Download the brochure here</strong></a><br />\n<br />\n&gt\;&gt\; <a href="http://bit.ly/2G7RxXa"><strong>Click here</strong></a> for the latest update<br />\n&nbsp\;<br />\nMake sure you are present at the country&#39\;s longest running industry event to find out the latest on deal sourcing\, exit opportunities\, the fundraising market whilst networking with a host of LPs from across the globe.<br />\n<strong><span style="color:black\;">US-ASEAN Business Council members</span></strong><span style="color:black\;"> can enjoy a US$100 off the early bird rate if you book before 21st February\, and </span><strong><span style="color:red\;">25% DISCOUNT</span></strong> <span style="color:black\;">off </span><span style="color:black\;">the standard rate after 21st February\, to attend the Forum. </span><br />\n&nbsp\;<br />\nHOW TO REGISTER:<br />\nBook online by <a href="https://www.avcjforum.com/indonesia/book-now?utm_campaign=US-ABC%20event%20listing&amp\;utm_source=US-ABC%20website&amp\;utm_medium=referral"><strong>clicking here</strong></a><strong>\,</strong> email <a href="mailto:book@avcj.com?subject=AVCJ%20Indonesia%20Forum%202019%20-%20US-ABC%20special%20(USABC_INDO19)"><strong>book@avcj.com</strong></a> or call +852 2158 9636 and quote the discount code <a name="_Hlk30410159"><strong><span style="color:black\;">USABC_INDO20</span></strong></a><strong><span style="color:black\;">.</span></strong>
LOCATION:Grand Hyatt Jl. M.H. Thamrin No. Kav. 28-30 Menteng\, Jakarta\, Indonesia
UID:e.9078.8142
SEQUENCE:3
DTSTAMP:20260424T093442Z
URL:http://usasean.memberzone.com/events/details/avcj-9th-annual-indonesia-forum-8142
END:VEVENT

END:VCALENDAR
