BEGIN:VCALENDAR
VERSION:2.0
PRODID:-//ChamberMaster//Event Calendar 2.0//EN
METHOD:PUBLISH
X-PUBLISHED-TTL:P3D
REFRESH-INTERVAL:P3D
CALSCALE:GREGORIAN
BEGIN:VEVENT
DTSTART:20180626T053000Z
DTEND:20180626T100000Z
X-MICROSOFT-CDO-ALLDAYEVENT:FALSE
SUMMARY:ASEAN-US Digital Policy Consultative Forum
DESCRIPTION:The Council will be hosting its first roundtable discussion of the ASEAN-US Digital Policy Consultative Forum on the sidelines of the ASEAN TELSOM-ATRC Joint Working Group Meeting in Malaysia on June 26\, 2018. The aim of this half-day roundtable is to examine and exchange views on policy approaches to innovation and new digital tools to unleash the economic potential derived from these innovations.
X-ALT-DESC;FMTTYPE=text/html:<span style="font-size: 14px\;">The Council will be hosting its first roundtable discussion of the ASEAN-US Digital Policy Consultative Forum on the sidelines of the ASEAN TELSOM-ATRC Joint Working Group Meeting in Malaysia on June 26\, 2018.&nbsp\;<span style="font-family: arial\,sans-serif\;">The aim of this half-day roundtable is to examine and exchange views on policy approaches to innovation and new digital tools to unleash the economic potential derived from these innovations.&nbsp\;</span></span>
LOCATION:Grand Hyatt Kuala Lumpur 12 Jalan Pinang Kuala Lumpur\, Malaysia 50450
UID:e.9078.6514
SEQUENCE:3
DTSTAMP:20260420T014338Z
URL:http://usasean.memberzone.com/events/details/asean-us-digital-policy-consultative-forum-6514
END:VEVENT

END:VCALENDAR
