BEGIN:VCALENDAR
VERSION:2.0
PRODID:-//ChamberMaster//Event Calendar 2.0//EN
METHOD:PUBLISH
X-PUBLISHED-TTL:P3D
REFRESH-INTERVAL:P3D
CALSCALE:GREGORIAN
BEGIN:VEVENT
DTSTART:20200911T010000Z
DTEND:20200911T040000Z
X-MICROSOFT-CDO-ALLDAYEVENT:FALSE
SUMMARY:ASEAN Tourism Digital Economy Workshop
DESCRIPTION:The Council is pleased to call for sponsorship of the ASEAN Tourism virtual digital economy workshop in coordination with the ASEAN Secretariat and the current ASEAN Tourism Competitiveness Committee ATCC Chair (Philippines Tourism Undersecretary Benito C. Bengzon Jr.)   This offers an excellent opportunity for US-ABC member companies to interact with ASEAN tourism government officials who formulate and execute policies and programs for marketing and digital transformation in the travel and tourism sector.
X-ALT-DESC;FMTTYPE=text/html:<span style="font-family:georgia\,serif\;"><span style="font-size:12.0pt\;">The Council is pleased to call for sponsorship of the ASEAN Tourism virtual digital economy workshop in coordination with the ASEAN Secretariat and the current ASEAN Tourism Competitiveness Committee ATCC Chair (Philippines Tourism Undersecretary Benito C. Bengzon Jr.)&nbsp\; &nbsp\;This&nbsp\;offers an excellent opportunity for US-ABC member companies to interact with ASEAN tourism government officials who formulate and execute policies and programs for marketing and digital transformation in the travel and tourism sector.&nbsp\; </span></span>
LOCATION:Zoom meeting
UID:e.9078.8271
SEQUENCE:3
DTSTAMP:20260424T074325Z
URL:http://usasean.memberzone.com/events/details/asean-tourism-digital-economy-workshop-8271
END:VEVENT

END:VCALENDAR
