BEGIN:VCALENDAR
VERSION:2.0
PRODID:-//ChamberMaster//Event Calendar 2.0//EN
METHOD:PUBLISH
X-PUBLISHED-TTL:P3D
REFRESH-INTERVAL:P3D
CALSCALE:GREGORIAN
BEGIN:VEVENT
DTSTART;VALUE=DATE:20150526
DTEND;VALUE=DATE:20150529
TRANSP:TRANSPARENT
X-MICROSOFT-CDO-ALLDAYEVENT:TRUE
SUMMARY:ASEAN SME Showcase
DESCRIPTION:ASEAN SME Showcase
X-ALT-DESC;FMTTYPE=text/html:ASEAN SME Showcase&nbsp\;&nbsp\;&nbsp\;
LOCATION:Kuala Lumpur Convention Center
UID:e.9078.1555
SEQUENCE:3
DTSTAMP:20260419T135027Z
URL:http://usasean.memberzone.com/events/details/asean-sme-showcase-05-26-2015-1555
END:VEVENT

END:VCALENDAR
