BEGIN:VCALENDAR
VERSION:2.0
PRODID:-//ChamberMaster//Event Calendar 2.0//EN
METHOD:PUBLISH
X-PUBLISHED-TTL:P3D
REFRESH-INTERVAL:P3D
CALSCALE:GREGORIAN
BEGIN:VEVENT
DTSTART:20150520T190000Z
DTEND:20150520T210000Z
X-MICROSOFT-CDO-ALLDAYEVENT:FALSE
SUMMARY:ASEAN SME Event in Brunei
DESCRIPTION:ASEAN SME Event in Brunei during Custom DG Mission\n\n\n\nProgram Code SME1502
X-ALT-DESC;FMTTYPE=text/html:ASEAN SME Event in Brunei during Custom DG Mission<br />\n<br />\nProgram Code SME1502
LOCATION:Bandar Seri Begawan\, Brunei
UID:e.9078.1565
SEQUENCE:3
DTSTAMP:20260419T115900Z
URL:http://usasean.memberzone.com/events/details/asean-sme-event-in-brunei-05-20-2015-1565
END:VEVENT

END:VCALENDAR
