BEGIN:VCALENDAR
VERSION:2.0
PRODID:-//ChamberMaster//Event Calendar 2.0//EN
METHOD:PUBLISH
X-PUBLISHED-TTL:P3D
REFRESH-INTERVAL:P3D
CALSCALE:GREGORIAN
BEGIN:VEVENT
DTSTART:20181108T030000Z
DTEND:20181108T040000Z
X-MICROSOFT-CDO-ALLDAYEVENT:FALSE
SUMMARY:ASEAN SME Academy Webinar 5: Developing High Performing Team
DESCRIPTION:Build great teams! Join Cisco Leadership Course Webinar Series \nWhile high performing teams are a key driver of business performance\, the formula to develop them is not easy. Effective leaders build great teams\, so don't miss the 5th Cisco Leadership Webinar for insights on Developing High Performing Teams.
X-ALT-DESC;FMTTYPE=text/html:<h1 style="margin-top:0cm\;margin-right:0cm\;margin-bottom:11.25pt\;margin-left:0cm\;line-height:27.0pt\;"><span style="color:black\;"><span style="font-family:arial\,sans-serif\;"><span style="font-size:22pt\;">Build great teams! Join Cisco Leadership Course Webinar Series </span></span></span></h1>\n<span style="color:#5B585C\;"><span style="font-family:arial\,sans-serif\;"><span style="font-size:12.0pt\;">While high performing teams are a key driver of business performance\, the formula to develop them is not easy. Effective leaders build great teams\, so don&rsquo\;t miss the 5th Cisco Leadership Webinar for insights on </span></span></span><span style="color:#00BCEB\;"><span style="font-family:arial\,sans-serif\;"><span style="font-size:12.0pt\;">Developing High Performing Teams.</span></span></span><br style="box-sizing:border-box\;" />\n<br />\n<br />\n&nbsp\;
LOCATION:https://tinyurl.com/webinaracademy5
UID:e.9078.7728
SEQUENCE:3
DTSTAMP:20260420T140219Z
URL:http://usasean.memberzone.com/events/details/asean-sme-academy-webinar-5-developing-high-performing-team-7728
END:VEVENT

END:VCALENDAR
