BEGIN:VCALENDAR
VERSION:2.0
PRODID:-//ChamberMaster//Event Calendar 2.0//EN
METHOD:PUBLISH
X-PUBLISHED-TTL:P3D
REFRESH-INTERVAL:P3D
CALSCALE:GREGORIAN
BEGIN:VEVENT
DTSTART:20180928T040000Z
DTEND:20180928T060000Z
X-MICROSOFT-CDO-ALLDAYEVENT:FALSE
SUMMARY:ASEAN Presidents' Luncheon Series - September 28\, 2018
DESCRIPTION:The US-ASEAN Presidents' Luncheon Series is a series of intimate luncheons for the Asia-Pacific and/or ASEAN Presidents of our member companies. It serves as a platform for business leaders to engage with various policy-makers and thought-leaders in robust and informative discussions on broad issues in the region.
X-ALT-DESC;FMTTYPE=text/html:<span style="font-family: arial\, sans-serif\; font-size: 16px\;">The US-ASEAN Presidents&#39\; Luncheon Series is a series of intimate luncheons for the Asia-Pacific and/or ASEAN Presidents of our member companies. It serves as a platform for business leaders to engage with various policy-makers and thought-leaders in robust and informative discussions on broad issues in the region.&nbsp\;</span>
LOCATION:
UID:e.9078.7652
SEQUENCE:3
DTSTAMP:20260420T062437Z
URL:http://usasean.memberzone.com/events/details/asean-presidents-luncheon-series-september-28-2018-7652
END:VEVENT

END:VCALENDAR
