BEGIN:VCALENDAR
VERSION:2.0
PRODID:-//ChamberMaster//Event Calendar 2.0//EN
METHOD:PUBLISH
X-PUBLISHED-TTL:P3D
REFRESH-INTERVAL:P3D
CALSCALE:GREGORIAN
BEGIN:VEVENT
DTSTART:20181123T043000Z
DTEND:20181123T060000Z
X-MICROSOFT-CDO-ALLDAYEVENT:FALSE
SUMMARY:ASEAN Presidents' Luncheon Series - November 23\, 2018
DESCRIPTION:The US-ASEAN Presidents' Luncheon Series is a series of intimate luncheons for the Asia-Pacific and/or ASEAN Presidents of our member companies. It serves as a platform for business leaders to engage with various policy-makers and thought-leaders in robust\, informative\, and closed-door discussions on broad issues in the region. \n\n\n\nPlease contact Jamie Lim at jlim@usasean.org to RSVP or for more information.
X-ALT-DESC;FMTTYPE=text/html:<span style="font-size:14px\;"><span style="font-family: arial\, sans-serif\;">The US-ASEAN Presidents&#39\; Luncheon Series is a series of intimate luncheons for the Asia-Pacific and/or ASEAN Presidents of our member companies. It serves as a platform for business leaders to engage with vari</span></span><span style="font-family: arial\, sans-serif\;">ous policy-makers and thought-leaders in robust\, informative\, and closed-door discussions on broad issues in the region.&nbsp\;<br />\n<br />\nPlease contact Jamie Lim at <a href="mailto:jlim@usasean.org">jlim@usasean.org</a> to RSVP or for more information.</span>
LOCATION:Singapore
UID:e.9078.7714
SEQUENCE:3
DTSTAMP:20260420T121719Z
URL:http://usasean.memberzone.com/events/details/asean-presidents-luncheon-series-november-23-2018-7714
END:VEVENT

END:VCALENDAR
