BEGIN:VCALENDAR
VERSION:2.0
PRODID:-//ChamberMaster//Event Calendar 2.0//EN
METHOD:PUBLISH
X-PUBLISHED-TTL:P3D
REFRESH-INTERVAL:P3D
CALSCALE:GREGORIAN
BEGIN:VEVENT
DTSTART:20180514T160000Z
DTEND:20180514T180000Z
X-MICROSOFT-CDO-ALLDAYEVENT:FALSE
SUMMARY:ASEAN Presidents' Luncheon Series - May 14\, 2018
DESCRIPTION:The US-ASEAN Presidents' Luncheon Series is a series of intimate luncheons for the Asia-Pacific and/or ASEAN Presidents of our member companies. It serves as a platform for business leaders to engage with various policy-makers and thought-leaders in robust and informative discussions on broad issues in the region. Their aim is to understand our members' concerns better\, and to provide an avenue for exploring cross-sectoral solutions and partnerships.
X-ALT-DESC;FMTTYPE=text/html:<span style="font-family:arial\,sans-serif\;"><span style="font-size:12.0pt\;">The US-ASEAN Presidents&#39\; Luncheon Series is a series of intimate luncheons for the Asia-Pacific and/or ASEAN Presidents of our member companies. It serves as a platform for business leaders to engage with various policy-makers and thought-leaders in robust and informative discussions on broad issues in the region. Their aim is to understand our members&#39\; concerns better\, and to provide an avenue for exploring cross-sectoral solutions and partnerships.</span></span>
LOCATION:
UID:e.9078.6497
SEQUENCE:3
DTSTAMP:20260419T220458Z
URL:http://usasean.memberzone.com/events/details/asean-presidents-luncheon-series-may-14-2018-6497
END:VEVENT

END:VCALENDAR
