BEGIN:VCALENDAR
VERSION:2.0
PRODID:-//ChamberMaster//Event Calendar 2.0//EN
METHOD:PUBLISH
X-PUBLISHED-TTL:P3D
REFRESH-INTERVAL:P3D
CALSCALE:GREGORIAN
BEGIN:VEVENT
DTSTART:20190726T043000Z
DTEND:20190726T060000Z
X-MICROSOFT-CDO-ALLDAYEVENT:FALSE
SUMMARY:ASEAN Presidents' Luncheon Series - July 26\, 2019
DESCRIPTION:The US-ASEAN Presidents' Luncheon Series is a series of intimate luncheons for the Asia-Pacific and/or ASEAN Presidents of our member companies. It serves as a platform for business leaders to engage with various policy-makers and thought-leaders in robust and informative discussions on broad issues in the region.
X-ALT-DESC;FMTTYPE=text/html:<div>\n<div style="box-sizing: border-box\; font-family: &quot\;Segoe UI&quot\;\, &quot\;Helvetica Neue&quot\;\, &quot\;Apple Color Emoji&quot\;\, &quot\;Segoe UI Emoji&quot\;\, Helvetica\, Arial\, sans-serif\; font-size: 14px\; font-style: normal\; font-variant-ligatures: normal\; font-variant-caps: normal\; font-weight: 400\; letter-spacing: normal\; orphans: 2\; text-align: start\; text-indent: 0px\; text-transform: none\; white-space: normal\; widows: 2\; word-spacing: 0px\;">\n<div data-tid="messageBodyContainer">\n<div data-tid="messageBodyContent">\n<div>\n<div>\n<div><span style="font-size:16px\;">The US-ASEAN Presidents&#39\; Luncheon Series is a series of intimate luncheons for the Asia-Pacific and/or ASEAN Presidents of our member companies. It serves as a platform for business leaders to engage with various policy-makers and thought-leaders in robust and informative discussions on broad issues in the region. </span></div>\n</div>\n</div>\n</div>\n</div>\n</div>\n</div>\n
LOCATION:Friday July 26
UID:e.9078.7941
SEQUENCE:3
DTSTAMP:20260425T001838Z
URL:http://usasean.memberzone.com/events/details/asean-presidents-luncheon-series-july-26-2019-7941
END:VEVENT

END:VCALENDAR
