BEGIN:VCALENDAR
VERSION:2.0
PRODID:-//ChamberMaster//Event Calendar 2.0//EN
METHOD:PUBLISH
X-PUBLISHED-TTL:P3D
REFRESH-INTERVAL:P3D
CALSCALE:GREGORIAN
BEGIN:VEVENT
DTSTART:20141006T230000Z
DTEND:20141007T010000Z
X-MICROSOFT-CDO-ALLDAYEVENT:FALSE
SUMMARY:ASEAN Matters for Houston: Perspectives from Four U.S. Ambassadors
DESCRIPTION:The ten member states of the Association of Southeast Asian Nations (ASEAN) have experienced a tremendous amount of economic growth in recent years. Cheaper manufacturing costs\, strengthened infrastructures\, and innovations in science and technology have attracted billions in foreign direct investment\, and with rising levels of disposable income\, it is no surprise that ASEAN economies are expected to grow 4.3% in 2015. This prosperity bodes particularly well for Texas\, where exports to ASEAN nations contribute more than $13 billion to the state's economy.\n\nThe United States Ambassadors to Cambodia\, Indonesia\, Malaysia\, and Singapore join Asia Society Texas Center for a special in-depth panel discussion on the local impact of ASEAN/U.S. trade and why ASEAN is critical to Houston's continued growth.\n\nTo become a sponsor of this important program\, please click here or contact Jordan Witherspoon\, Director of Institutional Giving\, at 713.496.9909 orJWitherspoon@AsiaSociety.org.
X-ALT-DESC;FMTTYPE=text/html:<span style="font-size:14px\;"><span style="font-family:arial\;">The ten member states of the&nbsp\;Association of Southeast Asian Nations&nbsp\;(ASEAN) have experienced a tremendous amount of economic growth in recent years. Cheaper manufacturing costs\, strengthened infrastructures\, and innovations in science and technology have attracted billions in foreign direct investment\, and with rising levels of disposable income\, it is no surprise that ASEAN economies are expected to grow 4.3% in 2015. This prosperity bodes particularly well for Texas\, where exports to ASEAN nations contribute more than $13 billion to the state&rsquo\;s economy.<br />\nThe United States Ambassadors to Cambodia\, Indonesia\, Malaysia\, and Singapore join Asia Society Texas Center for a special in-depth panel discussion on the local impact of ASEAN/U.S. trade and why ASEAN is critical to Houston&#39\;s continued growth.<br />\nTo become a sponsor of this important program\, please click&nbsp\;<a href="http://asiasociety.org/files/uploads/463files/Asia%20Society%20ASEAN%20Program%20Proposal.pdf" style="color:rgb(242\, 101\, 50)\;text-decoration:none\;" target="_blank">here</a>&nbsp\;or contact Jordan Witherspoon\, Director of Institutional Giving\, at 713.496.9909 or<a href="mailto:JWitherspoon@AsiaSociety.org" style="color:rgb(242\, 101\, 50)\;text-decoration:none\;">JWitherspoon@AsiaSociety.org</a>.</span></span>
LOCATION:1370 Southmore Blvd. Houston\, TX 77004 713.496.9901
UID:e.9078.1277
SEQUENCE:3
DTSTAMP:20260420T021122Z
URL:http://usasean.memberzone.com/events/details/asean-matters-for-houston-perspectives-from-four-u-s-ambassadors-10-06-2014-1277
END:VEVENT

END:VCALENDAR
