BEGIN:VCALENDAR
VERSION:2.0
PRODID:-//ChamberMaster//Event Calendar 2.0//EN
METHOD:PUBLISH
X-PUBLISHED-TTL:P3D
REFRESH-INTERVAL:P3D
CALSCALE:GREGORIAN
BEGIN:VEVENT
DTSTART:20230928T130000Z
DTEND:20230929T023000Z
X-MICROSOFT-CDO-ALLDAYEVENT:FALSE
SUMMARY:ASEAN Matters 6th Edition D.C. Launch Event
DESCRIPTION:
X-ALT-DESC;FMTTYPE=text/html:
LOCATION:
UID:e.9078.9130
SEQUENCE:3
DTSTAMP:20260421T193045Z
URL:http://usasean.memberzone.com/events/details/asean-matters-6th-edition-d-c-launch-event-9130
END:VEVENT

END:VCALENDAR
