BEGIN:VCALENDAR
VERSION:2.0
PRODID:-//ChamberMaster//Event Calendar 2.0//EN
METHOD:PUBLISH
X-PUBLISHED-TTL:P3D
REFRESH-INTERVAL:P3D
CALSCALE:GREGORIAN
BEGIN:VEVENT
DTSTART:20130610T220000Z
DTEND:20130611T000000Z
X-MICROSOFT-CDO-ALLDAYEVENT:FALSE
SUMMARY:ASEAN Economic Ministers Reception - Los Angeles
DESCRIPTION:
X-ALT-DESC;FMTTYPE=text/html:
LOCATION:
UID:e.9078.800
SEQUENCE:3
DTSTAMP:20260421T210214Z
URL:http://usasean.memberzone.com/events/details/asean-economic-ministers-reception-los-angeles-06-10-2013-800
END:VEVENT

END:VCALENDAR
