BEGIN:VCALENDAR
VERSION:2.0
PRODID:-//ChamberMaster//Event Calendar 2.0//EN
METHOD:PUBLISH
X-PUBLISHED-TTL:P3D
REFRESH-INTERVAL:P3D
CALSCALE:GREGORIAN
BEGIN:VEVENT
DTSTART:20130613T220000Z
DTEND:20130614T010000Z
X-MICROSOFT-CDO-ALLDAYEVENT:FALSE
SUMMARY:ASEAN Economic Ministers Gala Dinner - Sponsors
DESCRIPTION:On June 10-14 the US-ASEAN Business Council\, in collaboration with the U.S. Government and the governments of ASEAN\, is organizing a Roadshow for the ASEAN Economic (Trade) Ministers to Los Angeles\, Silicon Valley\, and Washington\, D.C.  The visit will culminate in a dinner celebrating the U.S.-ASEAN relationship and highlighting the efforts and achievements of the ASEAN Economic Ministers. \n\n		\n\n		Confirmed guests include:\n	\n		\n\n		ASEAN\n\n		H.E. Lim Hong Hin\, Deputy Secretary General \n\n		 \n\n		Brunei\n\n		H.E. Pehin Lim Jock Seng\, Minister\, Ministry of Foreign Affairs and Trade \n\n		 \n\n		Cambodia\n\n		H.E. Pan Sorasak\, Secretary of State and Vice Minister\, Ministry of Commerce \n\n		 \n\n		Indonesia\n\n		H.E. Bayu Khrisnamurti\, Vice Minister\, Ministry of Trade \n\n		H.E. Iman Pambagyo\, Director General of International Trade Cooperation \n\n		 \n\n		Laos\n\n		H.E. Dr. Nam Viyaketh\, Minister\, Ministry of Industry and Commerce \n\n		 \n\n		Malaysia\n\n		H.E. Mustapa Mohamed\, Minister\, Ministry of International Trade and Industry \n\n		 \n\n		Myanmar\n\n		H.E. Dr. Kan Zaw\, Union Minister\, Ministry of National Planning and Economic Development \n\n		 \n\n		Philippines\n\n		H.E. Gregory L. Domingo\, Secretary\, Department of Trade and Industry \n\n		 \n\n		Singapore\n\n		H.E. Ow Foong Pheng\, Permanent Secretary\, Ministry of Trade and Industry \n\n		 \n\n		Thailand\n\n		H.E. Sin Kumpha\, Vice Minister\, Ministry of Commerce \n\n		H.E. Piramol Charoenpao\, Director General\, Department of Trade Negotiations \n\n		 \n\n		Vietnam\n\n		H.E. Nguyen Cam Tu\, Vice Minister\, Ministry of International Trade \n\n		 \n	\n		Additional guests include:\n	\n		\n			Senior ASEAN Diplomats\n		\n			Senior U.S. Government Officials\n	\n	\n		\n\n		Sponsorship opportunities are available:\n\n		For more details\, please contact Mads Stockwell at mstockwell@usasean.org
X-ALT-DESC;FMTTYPE=text/html:<div id="email-container" style="text-align: center\;">\n	<div style="text-align: left\; font-family: georgia\, serif\; font-size: 16px\;">\n		<span style="font-size: 16px\;">On June 10-14 the US-ASEAN Business Council\, in collaboration with the U.S. Government and the governments of ASEAN\, is organizing a Roadshow for the ASEAN Economic (Trade) Ministers to Los Angeles\, Silicon Valley\, and Washington\, D.C. &nbsp\;The visit will culminate in a dinner celebrating the U.S.-ASEAN&nbsp\;relationship and highlighting the efforts and achievements of the ASEAN Economic Ministers.&nbsp\;<br />\n		<br />\n		Confirmed guests include:</span></div>\n	<div style="text-align: left\; font-family: georgia\, serif\; font-size: 16px\;">\n		<br />\n		<strong><span style="font-size: 12pt\;">ASEAN</span></strong><br />\n		<span style="font-size: 12pt\;">H.E. Lim Hong Hin\, Deputy Secretary General </span><br />\n		&nbsp\;<br />\n		<strong><span style="font-size: 12pt\;">Brunei</span></strong><br />\n		<span style="font-size: 12pt\;">H.E. Pehin Lim Jock Seng\, Minister\, Ministry of Foreign Affairs and Trade </span><br />\n		&nbsp\;<br />\n		<strong><span style="font-size: 12pt\;">Cambodia</span></strong><br />\n		<span style="font-size: 12pt\;">H.E. Pan Sorasak\, Secretary of State and Vice Minister\, Ministry of Commerce </span><br />\n		&nbsp\;<br />\n		<strong><span style="font-size: 12pt\;">Indonesia</span></strong><br />\n		<span style="font-size: 12pt\;">H.E. Bayu Khrisnamurti\, Vice Minister\, Ministry of Trade </span><br />\n		<span style="font-size: 12pt\;">H.E. Iman Pambagyo\, Director General of International Trade Cooperation </span><br />\n		&nbsp\;<br />\n		<strong><span style="font-size: 12pt\;">Laos</span></strong><br />\n		<span style="font-size: 12pt\;">H.E. Dr. Nam Viyaketh\, Minister\, Ministry of Industry and Commerce </span><br />\n		&nbsp\;<br />\n		<strong><span style="font-size: 12pt\;">Malaysia</span></strong><br />\n		<span style="font-size: 12pt\;">H.E. Mustapa Mohamed\, Minister\, Ministry of International Trade and Industry </span><br />\n		&nbsp\;<br />\n		<strong><span style="font-size: 12pt\;">Myanmar</span></strong><br />\n		<span style="font-size: 12pt\;">H.E. Dr. Kan Zaw\, Union Minister\,&nbsp\;Ministry of National Planning and Economic Development </span><br />\n		&nbsp\;<br />\n		<strong><span style="font-size: 12pt\;">Philippines</span></strong><br />\n		<span style="font-size: 12pt\;">H.E. Gregory L. Domingo\, Secretary\, Department of Trade and Industry </span><br />\n		&nbsp\;<br />\n		<strong><span style="font-size: 12pt\;">Singapore</span></strong><br />\n		<span style="font-size: 12pt\;">H.E. Ow Foong Pheng\, Permanent Secretary\, Ministry of Trade and Industry </span><br />\n		&nbsp\;<br />\n		<strong><span style="font-size: 12pt\;">Thailand</span></strong><br />\n		<span style="font-size: 12pt\;">H.E. Sin Kumpha\, Vice Minister\, Ministry of Commerce </span><br />\n		<span style="font-size: 12pt\;">H.E. Piramol Charoenpao\, Director General\, Department of Trade Negotiations </span><br />\n		&nbsp\;<br />\n		<strong><span style="font-size: 12pt\;">Vietnam</span></strong><br />\n		<span style="font-size: 12pt\;">H.E. Nguyen Cam Tu\, Vice Minister\, Ministry of International Trade&nbsp\;</span><br />\n		&nbsp\;</div>\n	<div style="text-align: left\; font-family: georgia\, serif\; font-size: 16px\;">\n		<span style="font-size: 16px\;">Additional guests include:</span></div>\n	<ul style="font-family: georgia\, serif\; font-size: 16px\;">\n		<li style="text-align: left\;">\n			<span style="font-size: 16px\;">Senior ASEAN Diplomats</span></li>\n		<li style="text-align: left\;">\n			<span style="font-size: 16px\;">Senior U.S. Government Officials</span></li>\n	</ul>\n	<div style="text-align: left\;">\n		<br />\n		<span style="font-size: 16px\;"><span style="text-align: justify\; line-height: 36.03px\; font-family: arial\;"><strong>Sponsorship opportunities are available:</strong><br />\n		<em>For more details\, please contact Mads Stockwell at mstockwell@usasean.org</em></span></span></div>\n</div>\n<br />\n
LOCATION:Mandarin Oriental Hotel Washington\, D.C.
UID:e.9078.760
SEQUENCE:3
DTSTAMP:20260421T210216Z
URL:http://usasean.memberzone.com/events/details/asean-economic-ministers-gala-dinner-sponsors-06-13-2013-760
END:VEVENT

END:VCALENDAR
