BEGIN:VCALENDAR
VERSION:2.0
PRODID:-//ChamberMaster//Event Calendar 2.0//EN
METHOD:PUBLISH
X-PUBLISHED-TTL:P3D
REFRESH-INTERVAL:P3D
CALSCALE:GREGORIAN
BEGIN:VEVENT
DTSTART;VALUE=DATE:20130819
DTEND;VALUE=DATE:20130824
TRANSP:TRANSPARENT
X-MICROSOFT-CDO-ALLDAYEVENT:TRUE
SUMMARY:ASEAN Economic Ministers (AEM) Meeting - Trade Ministers
DESCRIPTION:AEM Mission
X-ALT-DESC;FMTTYPE=text/html:AEM Mission
LOCATION:Brunei
UID:e.9078.804
SEQUENCE:3
DTSTAMP:20260421T173922Z
URL:http://usasean.memberzone.com/events/details/asean-economic-ministers-aem-meeting-trade-ministers-08-19-2013-804
END:VEVENT

END:VCALENDAR
