BEGIN:VCALENDAR
VERSION:2.0
PRODID:-//ChamberMaster//Event Calendar 2.0//EN
METHOD:PUBLISH
X-PUBLISHED-TTL:P3D
REFRESH-INTERVAL:P3D
CALSCALE:GREGORIAN
BEGIN:VEVENT
DTSTART:20140402T160000Z
DTEND:20140402T180000Z
X-MICROSOFT-CDO-ALLDAYEVENT:FALSE
SUMMARY:ASEAN Dialogue Series with NSC Director for Southeast Asia Colin Willett
DESCRIPTION:ASEAN Dialogue Series with Colin Willett
X-ALT-DESC;FMTTYPE=text/html:ASEAN Dialogue Series with Colin Willett
LOCATION:US-ASEAN Business Council Offices 1101 17th Street Suite 411 Washington\, D.C.
UID:e.9078.1096
SEQUENCE:3
DTSTAMP:20260420T140110Z
URL:http://usasean.memberzone.com/events/details/asean-dialogue-series-with-nsc-director-for-southeast-asia-colin-willett-04-02-2014-1096
END:VEVENT

END:VCALENDAR
