BEGIN:VCALENDAR
VERSION:2.0
PRODID:-//ChamberMaster//Event Calendar 2.0//EN
METHOD:PUBLISH
X-PUBLISHED-TTL:P3D
REFRESH-INTERVAL:P3D
CALSCALE:GREGORIAN
BEGIN:VEVENT
DTSTART:20140319T160000Z
DTEND:20140319T180000Z
X-MICROSOFT-CDO-ALLDAYEVENT:FALSE
SUMMARY:ASEAN Dialogue Series with Barbara Weisel
DESCRIPTION:ASEAN Dialogue Series with Deputy USTR Barbara Weisel
X-ALT-DESC;FMTTYPE=text/html:ASEAN Dialogue Series with Deputy USTR Barbara Weisel
LOCATION:US-ABC Offices 1101 17th Street NW Suite 411
UID:e.9078.1085
SEQUENCE:3
DTSTAMP:20260420T174954Z
URL:http://usasean.memberzone.com/events/details/asean-dialogue-series-with-barbara-weisel-03-19-2014-1085
END:VEVENT

END:VCALENDAR
