BEGIN:VCALENDAR
VERSION:2.0
PRODID:-//ChamberMaster//Event Calendar 2.0//EN
METHOD:PUBLISH
X-PUBLISHED-TTL:P3D
REFRESH-INTERVAL:P3D
CALSCALE:GREGORIAN
BEGIN:VEVENT
DTSTART:20140305T170000Z
DTEND:20140305T184500Z
X-MICROSOFT-CDO-ALLDAYEVENT:FALSE
SUMMARY:ASEAN Dialogue Series: Holly Vineyard
DESCRIPTION:ASEAN Dialogue Luncheon with Holly Vineyard
X-ALT-DESC;FMTTYPE=text/html:ASEAN Dialogue Luncheon with Holly Vineyard&nbsp\;&nbsp\;&nbsp\;&nbsp\;&nbsp\;&nbsp\;&nbsp\;
LOCATION:US-ASEAN Business Council 1101 17th St NW Suite 411
UID:e.9078.1065
SEQUENCE:3
DTSTAMP:20260420T154850Z
URL:http://usasean.memberzone.com/events/details/asean-dialogue-series-holly-vineyard-03-05-2014-1065
END:VEVENT

END:VCALENDAR
