BEGIN:VCALENDAR
VERSION:2.0
PRODID:-//ChamberMaster//Event Calendar 2.0//EN
METHOD:PUBLISH
X-PUBLISHED-TTL:P3D
REFRESH-INTERVAL:P3D
CALSCALE:GREGORIAN
BEGIN:VEVENT
DTSTART:20180614T180000Z
DTEND:20180614T190000Z
X-MICROSOFT-CDO-ALLDAYEVENT:FALSE
SUMMARY:ASEAN Defense Attaches' Speaker Series with Maj. Gen. (Ret.) Jim Hodge
DESCRIPTION:
X-ALT-DESC;FMTTYPE=text/html:
LOCATION:US-ASEAN Business Council 1101 17th Street NW\, Suite 411 Washington\, DC
UID:e.9078.6593
SEQUENCE:3
DTSTAMP:20260420T015250Z
URL:http://usasean.memberzone.com/events/details/asean-defense-attaches-speaker-series-with-maj-gen-ret-jim-hodge-6593
END:VEVENT

END:VCALENDAR
