BEGIN:VCALENDAR
VERSION:2.0
PRODID:-//ChamberMaster//Event Calendar 2.0//EN
METHOD:PUBLISH
X-PUBLISHED-TTL:P3D
REFRESH-INTERVAL:P3D
CALSCALE:GREGORIAN
BEGIN:VEVENT
DTSTART;VALUE=DATE:20130604
DTEND;VALUE=DATE:20130607
TRANSP:TRANSPARENT
X-MICROSOFT-CDO-ALLDAYEVENT:TRUE
SUMMARY:ASEAN Customs Directors-General Mission\, June 4-6\, 2013
DESCRIPTION:Mission to 22nd ASEAN Customs Directors-General Meeting
X-ALT-DESC;FMTTYPE=text/html:Mission to 22nd ASEAN Customs Directors-General Meeting
LOCATION:Mandarin Orchard Singapore 333 Orchard Road Singapore 238867
UID:e.9078.764
SEQUENCE:3
DTSTAMP:20260421T210001Z
URL:http://usasean.memberzone.com/events/details/asean-customs-directors-general-mission-june-4-6-2013-06-04-2013-764
END:VEVENT

END:VCALENDAR
