BEGIN:VCALENDAR
VERSION:2.0
PRODID:-//ChamberMaster//Event Calendar 2.0//EN
METHOD:PUBLISH
X-PUBLISHED-TTL:P3D
REFRESH-INTERVAL:P3D
CALSCALE:GREGORIAN
BEGIN:VEVENT
DTSTART:20180813T010000Z
DTEND:20180813T020000Z
X-MICROSOFT-CDO-ALLDAYEVENT:FALSE
SUMMARY:ASEAN Committee Quarterly Call
DESCRIPTION:Please join the Council's ASEAN Committee to discuss the Business Mission to the ASEAN Economic Ministers (AEM) Meeting on August 30-September 1 (click here to register)\, the US-ASEAN Internship Program\, and other items.\n\n\n\nThe call will feature a briefing from the Ambassador Piper Campbell\, the newly-appointed Charg  d'Affaires\, U.S. Mission to ASEAN\, on the U.S.-ASEAN political and economic relationship. Ambassador Campbell will also provide a readout of the 51st ASEAN Foreign Ministers' Meeting (AMM)\, and the visit of Secretary of State  Pompeo. Before joining the U.S. Mission to ASEAN in June 2018\, Ambassador Campbell previously served as U.S. Ambassador to Mongolia from 2012-2015. Click here for her bio.
X-ALT-DESC;FMTTYPE=text/html:<span style="font-family:arial\,sans-serif\;"><span style="font-size:12.0pt\;">Please join the Council&rsquo\;s ASEAN Committee to discuss the Business Mission to the&nbsp\;<strong>ASEAN Economic Ministers (AEM) Meeting</strong>&nbsp\;on August 30-September 1 (click <strong><a href="https://www.usasean.org/mission/registration">here</a></strong> to register)\, the&nbsp\;<a href="http://internships.usasean.org/"><strong><span style="text-decoration-line:none\;">US-ASEAN Internship Program</span></strong></a>\, and other items.<br />\n<br />\nThe call will feature a briefing from the&nbsp\;<strong>Ambassador Piper Campbell</strong>\, the newly-appointed Charg&eacute\; d&rsquo\;Affaires\, U.S. Mission to ASEAN\,&nbsp\;on the U.S.-ASEAN political and economic relationship. Ambassador Campbell will also provide a readout of the 51<sup>st</sup> ASEAN Foreign Ministers&rsquo\; Meeting (AMM)\, and the visit&nbsp\;of&nbsp\;Secretary of State&nbsp\; Pompeo. Before joining the U.S. Mission to ASEAN in June 2018\, Ambassador Campbell previously served as U.S. Ambassador to Mongolia from 2012-2015. Click <a href="https://asean.usmission.gov/our-relationship/our-ambassador/">here</a> for her bio.&nbsp\;</span></span>
LOCATION:Call-in details will be distributed to registrants prior to the call
UID:e.9078.7642
SEQUENCE:3
DTSTAMP:20260420T033733Z
URL:http://usasean.memberzone.com/events/details/asean-committee-quarterly-call-7642
END:VEVENT

END:VCALENDAR
