BEGIN:VCALENDAR
VERSION:2.0
PRODID:-//ChamberMaster//Event Calendar 2.0//EN
METHOD:PUBLISH
X-PUBLISHED-TTL:P3D
REFRESH-INTERVAL:P3D
CALSCALE:GREGORIAN
BEGIN:VEVENT
DTSTART:20130807T010000Z
DTEND:20130807T020000Z
X-MICROSOFT-CDO-ALLDAYEVENT:FALSE
SUMMARY:ASEAN Committee Meeting
DESCRIPTION:Please join us for our next ASEAN Committee Meeting
X-ALT-DESC;FMTTYPE=text/html:Please join us for our next ASEAN Committee Meeting&nbsp\;&nbsp\;&nbsp\; 
LOCATION:Offices of Procter & Gamble Boardroom 238 Thompson Road Novena Square Tower A\, 20th Floor Singapore 307684 OR Dial-In
UID:e.9078.877
SEQUENCE:3
DTSTAMP:20260421T173823Z
URL:http://usasean.memberzone.com/events/details/asean-committee-meeting-08-06-2013-877
END:VEVENT

END:VCALENDAR
