BEGIN:VCALENDAR
VERSION:2.0
PRODID:-//ChamberMaster//Event Calendar 2.0//EN
METHOD:PUBLISH
X-PUBLISHED-TTL:P3D
REFRESH-INTERVAL:P3D
CALSCALE:GREGORIAN
BEGIN:VEVENT
DTSTART:20130418T013000Z
DTEND:20130418T023000Z
X-MICROSOFT-CDO-ALLDAYEVENT:FALSE
SUMMARY:ASEAN Committee Conference Call
DESCRIPTION:Please join us for our next ASEAN Committee Conference Call. The agenda will include:\n\n1. The Updated AEM White Paper\n\n2. Future SME Projects\n\n3. ASEAN Branding Committee\n\n4. Business Input into the US-ASEAN Business Summit
X-ALT-DESC;FMTTYPE=text/html:Please join us for our next ASEAN Committee Conference Call. The agenda will include:<br />\n1. The Updated AEM White Paper<br />\n2. Future SME Projects<br />\n3. ASEAN Branding Committee<br />\n4. Business Input into the US-ASEAN Business Summit
LOCATION:Conference Call Toll-free dial-in number (U.S. and Canada): (877) 505-1427 International dial-in number: (281) 319-9194 Conference code: 1029261120
UID:e.9078.746
SEQUENCE:3
DTSTAMP:20260422T023844Z
URL:http://usasean.memberzone.com/events/details/asean-committee-conference-call-04-17-2013-746
END:VEVENT

END:VCALENDAR
