BEGIN:VCALENDAR
VERSION:2.0
PRODID:-//ChamberMaster//Event Calendar 2.0//EN
METHOD:PUBLISH
X-PUBLISHED-TTL:P3D
REFRESH-INTERVAL:P3D
CALSCALE:GREGORIAN
BEGIN:VEVENT
DTSTART:20210604T023000Z
DTEND:20210604T040000Z
X-MICROSOFT-CDO-ALLDAYEVENT:FALSE
SUMMARY:ASEAN Committee Call with DSG Satvinder Singh
DESCRIPTION:
X-ALT-DESC;FMTTYPE=text/html:
LOCATION:Via Zoom
UID:e.9078.8474
SEQUENCE:3
DTSTAMP:20260423T131213Z
URL:http://usasean.memberzone.com/events/details/asean-committee-call-with-dsg-satvinder-singh-8474
END:VEVENT

END:VCALENDAR
