BEGIN:VCALENDAR
VERSION:2.0
PRODID:-//ChamberMaster//Event Calendar 2.0//EN
METHOD:PUBLISH
X-PUBLISHED-TTL:P3D
REFRESH-INTERVAL:P3D
CALSCALE:GREGORIAN
BEGIN:VEVENT
DTSTART:20240208T200000Z
DTEND:20240208T210000Z
X-MICROSOFT-CDO-ALLDAYEVENT:FALSE
SUMMARY:ASEAN Chairmanship Briefing and Discussion with Laos Ambassador Sisavath Inphachanh
DESCRIPTION:Please join the US-ASEAN Business Council for an in-person briefing featuring His Excellency Sisavath Inphachanh\, Laos Ambassador to the United States. To access Ambassador Sisavath's bio\, please click here. \n\n\n\nAs Laos takes over the Chairmanship of ASEAN this year\, this is a unique opportunity for members to hear directly from Ambassador Sisavath on Laos' top priorities and agenda for ASEAN as part of its recently unveiled theme of "Enhancing Connectivity and Resilience". Member companies will also have the opportunity to update the Ambassador on their respective business operations\, as well as issues and challenges they are facing in Laos\, and across the region writ large.\n\n\n\nPlease contact Jack Myint at jmyint@usasean.org with any questions ahead of the event.
X-ALT-DESC;FMTTYPE=text/html:<span style="caret-color: rgb(33\, 33\, 33)\; color: rgb(33\, 33\, 33)\; font-family: Arial\, sans-serif\; font-size: 16px\; text-size-adjust: auto\;">Please join the US-ASEAN Business Council for an in-person briefing featuring His Excellency Sisavath Inphachanh\, Laos Ambassador to the United States. To access Ambassador Sisavath&#39\;s bio\, please click </span><a href="https://protect-us.mimecast.com/s/lJQuC4x2p1iX3ErSxs8ac" style="color: rgb(0\, 120\, 215)\; font-family: Arial\, sans-serif\; font-size: 16px\; text-size-adjust: auto\;" title="https://protect-us.mimecast.com/s/lJQuC4x2p1iX3ErSxs8ac">here</a><span style="caret-color: rgb(33\, 33\, 33)\; color: rgb(33\, 33\, 33)\; font-family: Arial\, sans-serif\; font-size: 16px\; text-size-adjust: auto\;">.&nbsp\;</span><br style="caret-color: rgb(33\, 33\, 33)\; color: rgb(33\, 33\, 33)\; font-family: Arial\, sans-serif\; font-size: 16px\; text-size-adjust: auto\;" />\n<br style="caret-color: rgb(33\, 33\, 33)\; color: rgb(33\, 33\, 33)\; font-family: Arial\, sans-serif\; font-size: 16px\; text-size-adjust: auto\;" />\n<span style="caret-color: rgb(33\, 33\, 33)\; color: rgb(33\, 33\, 33)\; font-family: Arial\, sans-serif\; font-size: 16px\; text-size-adjust: auto\;">As Laos takes over the Chairmanship of ASEAN this year\, this is a unique&nbsp\;opportunity for members to hear directly from Ambassador Sisavath on Laos&#39\; top priorities and agenda for ASEAN as part of its recently unveiled theme of &quot\;Enhancing Connectivity and Resilience&quot\;. Member companies will also have the opportunity to update the Ambassador on their respective business operations\, as well as issues and challenges they are facing in Laos\, and across the region writ large.</span><br style="caret-color: rgb(33\, 33\, 33)\; color: rgb(33\, 33\, 33)\; font-family: Arial\, sans-serif\; font-size: 16px\; text-size-adjust: auto\;" />\n<br style="caret-color: rgb(33\, 33\, 33)\; color: rgb(33\, 33\, 33)\; font-family: Arial\, sans-serif\; font-size: 16px\; text-size-adjust: auto\;" />\n<span style="caret-color: rgb(33\, 33\, 33)\; color: rgb(33\, 33\, 33)\; font-family: Arial\, sans-serif\; font-size: 16px\; text-size-adjust: auto\;">Please contact Jack Myint at </span><a class="ms-outlook-linkify" href="mailto:jmyint@usasean.org" style="font-family: Arial\, sans-serif\; font-size: 16px\; text-size-adjust: auto\; color: rgb(0\, 120\, 215) !important\;">jmyint@usasean.org</a><span style="caret-color: rgb(33\, 33\, 33)\; color: rgb(33\, 33\, 33)\; font-family: Arial\, sans-serif\; font-size: 16px\; text-size-adjust: auto\;"> with any questions ahead of the event.</span>
LOCATION:US-ASEAN Business Council 1101 17th Street NW Washington\, DC
UID:e.9078.9232
SEQUENCE:3
DTSTAMP:20260422T042520Z
URL:http://usasean.memberzone.com/events/details/asean-chairmanship-briefing-and-discussion-with-laos-ambassador-sisavath-inphachanh-9232
END:VEVENT

END:VCALENDAR
