BEGIN:VCALENDAR
VERSION:2.0
PRODID:-//ChamberMaster//Event Calendar 2.0//EN
METHOD:PUBLISH
X-PUBLISHED-TTL:P3D
REFRESH-INTERVAL:P3D
CALSCALE:GREGORIAN
BEGIN:VEVENT
DTSTART:20130125T140000Z
DTEND:20130125T153000Z
X-MICROSOFT-CDO-ALLDAYEVENT:FALSE
SUMMARY:ASEAN Briefing with Barbara Weisel\, Assistant USTR for Southeast Asia CALL-IN
DESCRIPTION:ASEAN Briefing with Barbara Weisel\, Assistant USTR for Southeast Asia\n\nAssistant USTR for Southeast Asia Barbara Weisel will brief members on the US-ASEAN Expanded Economic Engagement Initiative (E3).Information on the E3 can be found here. \n\n\n\nBarbara's bio can be found here.
X-ALT-DESC;FMTTYPE=text/html:<strong><span style="font-family:arial\,sans-serif\;"><span style="font-size:11.0pt\;">ASEAN Briefing with Barbara Weisel\, Assistant USTR for Southeast Asia</span></span></strong><br />\n<span style="font-family:arial\,sans-serif\;"><span style="font-size:9.0pt\;">Assistant USTR for Southeast Asia Barbara Weisel will brief members on the US-ASEAN Expanded Economic Engagement Initiative (E3).<a href="http://www.whitehouse.gov/the-press-office/2012/11/19/fact-sheet-us-asean-expanded-economic-engagement-e3-initiative">Information on the E3 can be found here. </a><br />\n<br />\n<a href="http://www.ustr.gov/about-us/biographies-key-officials/barbara-weisel-austr">Barbara&#39\;s bio can be found here. </a></span></span>
LOCATION:This invitation is for those who wish to Call-In for the briefing. If you wish to attend in person please do not RSVP here. Toll-free dial-in number (U.S. and Canada): (877) 505-1427 International dial-in number: (281) 319-9194 Conference code: 1029261120
UID:e.9078.689
SEQUENCE:3
DTSTAMP:20260422T095208Z
URL:http://usasean.memberzone.com/events/details/asean-briefing-with-barbara-weisel-assistant-ustr-for-southeast-asia-call-in-01-25-2013-689
END:VEVENT

END:VCALENDAR
