BEGIN:VCALENDAR
VERSION:2.0
PRODID:-//ChamberMaster//Event Calendar 2.0//EN
METHOD:PUBLISH
X-PUBLISHED-TTL:P3D
REFRESH-INTERVAL:P3D
CALSCALE:GREGORIAN
BEGIN:VEVENT
DTSTART:20140515T133000Z
DTEND:20140515T144500Z
X-MICROSOFT-CDO-ALLDAYEVENT:FALSE
SUMMARY:ASEAN Agricultural Attache Roundtable
DESCRIPTION:The US-ASEAN Business Council is pleased to invite you to\n		\n		\n			ASEAN Agricultural Attache Roundtable\n\n			\n\n			Thursday\, May 15\, 2014\n\n			9.30AM - 10.45AM\n\n			\n\n			Vietnam Embassy\n\n			1233 20th Str. NW (Suite #400)\n\n			Washington\, D.C.\n		\n	\n\n\nThe ASEAN Agricultural Attache Roundtable is an opportunity for members of the Council to meet with the Agricultural Attaches representing the 10 ASEAN member states in Washington\, D.C. This roundtable takes place 1-2 times per year for the purpose of exchanging views and identifying a roadmap for improving the business environment in ASEAN and supporting our ASEAN friends with their efforts in the U.S.\n\n\n\nFor more information or the opportunity to provide input\, please contact Wanlapa "Fon" Komkai at 202 416-6706 or fwanlapa@usasean.org.
X-ALT-DESC;FMTTYPE=text/html:<table align="center" border="0" cellpadding="0" cellspacing="0" style="width: 650px\;" width="650">\n	<tbody>\n		<tr>\n			<td style="padding: 7.5pt 0in 0in\;"><span style="letter-spacing: 0.75pt\;"><span style="font-family: georgia\,serif\;">The US-ASEAN Business Council is pleased to invite you to</span></span></td>\n		</tr>\n		<tr>\n			<td style="padding: 15pt 0in\;"><strong><span style="letter-spacing: 0.75pt\;"><span style="font-family: georgia\,serif\;"><span style="font-size: 16pt\;">ASEAN Agricultural Attache&nbsp\;Roundtable</span></span></span></strong><br />\n			<br />\n			<strong><span style="letter-spacing: 0.75pt\;"><span style="font-family: georgia\,serif\;">Thursday\, May 15\, 2014<br />\n			9.30AM - 10.45AM<br />\n			<br />\n			Vietnam Embassy<br />\n			1233 20th Str. NW (Suite #400)<br />\n			Washington\, D.C.</span></span></strong></td>\n		</tr>\n	</tbody>\n</table>\n\n<div style="clear: both\;"><span style="font-family: arial\,sans-serif\;"><span style="font-size: 12pt\;">The ASEAN Agricultural Attache Roundtable is an opportunity for members of the Council to meet with the Agricultural Attaches representing the 10 ASEAN member states in Washington\, D.C. This roundtable takes place 1-2 times per year for the purpose of exchanging views and identifying a roadmap for improving the business environment in ASEAN and supporting our ASEAN friends with their efforts in the U.S.<br />\n<br />\nFor more information or the opportunity to provide input\, please contact Wanlapa &quot\;Fon&quot\; Komkai at 202 416-6706 or <a href="mailto:fwanlapa@usasean.org">fwanlapa@usasean.org</a>.&nbsp\;</span></span></div>\n
LOCATION:
UID:e.9078.1137
SEQUENCE:3
DTSTAMP:20260420T124106Z
URL:http://usasean.memberzone.com/events/details/asean-agricultural-attache-roundtable-05-15-2014-1137
END:VEVENT

END:VCALENDAR
