BEGIN:VCALENDAR
VERSION:2.0
PRODID:-//ChamberMaster//Event Calendar 2.0//EN
METHOD:PUBLISH
X-PUBLISHED-TTL:P3D
REFRESH-INTERVAL:P3D
CALSCALE:GREGORIAN
BEGIN:VEVENT
DTSTART:20130530T220000Z
DTEND:20130531T020000Z
X-MICROSOFT-CDO-ALLDAYEVENT:FALSE
SUMMARY:Appeal of Conscience Foundation in honor of President Yudhoyono
DESCRIPTION:Indonesian President Susilo Bambang Yudhoyono will be traveling to New York in May as part of his role as co-Chair of the UN Secretary-General's High-level Panel of Eminent Persons on the Post-2015 Development Agenda.   His short two day visit to New York will have NO business focused events.  \n\n	 \n\n	However\, President Yudhoyono will be honored by the Appeal of Conscience Foundation in New York City on Thursday evening\, May 30th\, 2013.  \n\n	\n\n	Please see the attached Invitation for further information.  \n\n	\n\n	Several Council member companies are directly involved with the mission of the Foundation.   There will be a VIP Reception with President Yudhoyono as part of the dinner and companies who sponsor at the $25\,000 level and up will be included in this reception. Click Here for more information. \n\n	 \n\n	Those interested in supporting the evening or requiring more information may contact Katerina Partlova:\n\n	 \n\n	Ms. Katerina Partlova\n\n	Appeal of Conscience Foundation\n\n	T: 212-535-5800\n\n	F: 212-628-2513\n\n	E: appealofconscience@msn.com\n\n	 \n\n	If you are able to attend this evening\, please let Alexandra Stuart\, the Council's Manager for Indonesia\, know as well.  \n\n	Alexandra can be reached at astuart@usasean.org
X-ALT-DESC;FMTTYPE=text/html:<div>\n	Indonesian President Susilo Bambang Yudhoyono will be traveling to New York in May as part of his role as co-Chair of the UN Secretary-General&rsquo\;s High-level Panel of Eminent Persons on the Post-2015 Development Agenda. &nbsp\; His short two day visit to New York will have NO business focused events. &nbsp\;</div>\n<div>\n	&nbsp\;</div>\n<div>\n	However\, President Yudhoyono will be honored by the Appeal of Conscience Foundation in New York City on Thursday evening\, May 30th\, 2013. &nbsp\;<br />\n	<br />\n	Please see the attached&nbsp\;<a href="http://cloud.chambermaster.com/userfiles/UserFiles/chambers/9078/File/PDFINVITATIONFINAL.pdf">Invitation</a>&nbsp\;for further information. &nbsp\;<br />\n	<br />\n	Several Council member companies are directly involved with the mission of the Foundation. &nbsp\; There will be a VIP Reception with President Yudhoyono as part of the dinner and companies who sponsor at the $25\,000 level and up will be included in this reception. <a href="http://cloud.chambermaster.com/userfiles/UserFiles/chambers/9078/File/PDFRSVPCORPORATECARDFINAL.pdf">Click Here</a>&nbsp\;for more information.&nbsp\;<br />\n	&nbsp\;</div>\n<div>\n	Those interested in supporting the evening or requiring more information may contact Katerina Partlova:<br />\n	&nbsp\;</div>\n<div>\n	Ms. Katerina Partlova</div>\n<div>\n	Appeal of Conscience Foundation</div>\n<div>\n	T: 212-535-5800</div>\n<div>\n	F: 212-628-2513</div>\n<div>\n	E: <a href="mailto:appealofconscience@msn.com?subject=interest%20in%20dinner%20honoring%20President%20Yudhoyono%20on%20May%2030th">appealofconscience@msn.com</a></div>\n<div>\n	&nbsp\;</div>\n<div>\n	If you are able to attend this evening\, please let Alexandra Stuart\, the Council&rsquo\;s Manager for Indonesia\, know as well. &nbsp\;<br />\n	Alexandra can be reached at <a href="mailto:astuart@usasean.org?subject=appeal%20of%20conscience%20foundation%20dinner%20honoring%20President%20Yudhoyono">astuart@usasean.org&nbsp\;</a></div>\n<div>\n	&nbsp\;</div>\n<div>\n	&nbsp\;</div>\n<div>\n	&nbsp\;</div>\n
LOCATION:The Pierre Grand Ballroom 2 East 61st Street New York
UID:e.9078.779
SEQUENCE:3
DTSTAMP:20260422T003744Z
URL:http://usasean.memberzone.com/events/details/appeal-of-conscience-foundation-in-honor-of-president-yudhoyono-05-30-2013-779
END:VEVENT

END:VCALENDAR
