BEGIN:VCALENDAR
VERSION:2.0
PRODID:-//ChamberMaster//Event Calendar 2.0//EN
METHOD:PUBLISH
X-PUBLISHED-TTL:P3D
REFRESH-INTERVAL:P3D
CALSCALE:GREGORIAN
BEGIN:VEVENT
DTSTART:20180824T070000Z
DTEND:20180824T090000Z
X-MICROSOFT-CDO-ALLDAYEVENT:FALSE
SUMMARY:APINDO Government Relations Gathering
DESCRIPTION:As part of the collaboration between the Council and APINDO\, we are pleased to invite members to join us for an event organized by APINDO\, the employers' association of Indonesia. The meeting serves as a platform for members in the Government Relations/ Corporate Affairs division to voice out concerns and develop collaborative actions to anticipate new regulations that are currently in draft.
X-ALT-DESC;FMTTYPE=text/html:<span style="font-family:arial\;"><span style="font-size:14px\;">As part of the collaboration between the Council and APINDO\, we are pleased to invite members to join us for an event organized by APINDO\, the employers&rsquo\; association of Indonesia. The meeting serves as a platform for members in the Government Relations/ Corporate Affairs division to voice out concerns and develop collaborative actions to anticipate new regulations that are currently in draft.</span></span>
LOCATION:Ruang Serbaguna APINDO Gedung Permata Kuningan\, 10th Floor Jl. Kuningan Mulia Kav. 9C\, Guntur\, Setiabudi Jakarta Selatan\, Indonesia 12980
UID:e.9078.7658
SEQUENCE:3
DTSTAMP:20260420T033749Z
URL:http://usasean.memberzone.com/events/details/apindo-government-relations-gathering-7658
END:VEVENT

END:VCALENDAR
