BEGIN:VCALENDAR
VERSION:2.0
PRODID:-//ChamberMaster//Event Calendar 2.0//EN
METHOD:PUBLISH
X-PUBLISHED-TTL:P3D
REFRESH-INTERVAL:P3D
CALSCALE:GREGORIAN
BEGIN:VEVENT
DTSTART:20140624T210000Z
DTEND:20140624T230000Z
X-MICROSOFT-CDO-ALLDAYEVENT:FALSE
SUMMARY:A Reception Celebrating the 10th Anniversary of the U.S.-Singapore Free Trade Agreement (USSFTA) with His Excellency Lee Hsien Loong\, Prime Minister of Singapore
DESCRIPTION:On June 24\, 2014\, the US-ASEAN Business Council and the U.S. Chamber of Commerce will host a reception in celebration of the 10th anniversary of the USSFTA with His Excellency Lee Hsien Loong\, Prime Minister of Singapore.  Members will have the opportunity to greet the Prime Minister and those traveling with him.\n\n \n\n*This is an invitation-only event*
X-ALT-DESC;FMTTYPE=text/html:<span style="font-size:16px\;"><span style="font-family: arial\;">On June 24\, 2014\, the US-ASEAN Business Council and the U.S. Chamber of Commerce will host a reception in celebration of the 10th anniversary of the USSFTA with His Excellency Lee Hsien Loong\, Prime Minister of Singapore.&nbsp\; Members will have the opportunity to greet the Prime Minister and those traveling with him.<br />\n&nbsp\;</span></span><br />\n<span style="font-size:16px\;"><span style="font-family: arial\;">*This is an invitation-only event*</span></span>
LOCATION:U.S. Chamber of Commerce 1615 H Street\, NW Washington\, D.C
UID:e.9078.1163
SEQUENCE:3
DTSTAMP:20260420T110842Z
URL:http://usasean.memberzone.com/events/details/a-reception-celebrating-the-10th-anniversary-of-the-u-s-singapore-free-trade-agreement-ussfta-with-his-excellency-lee-hsien-loong-prime-minister-of-singapore-06-24-2014-1163
END:VEVENT

END:VCALENDAR
