BEGIN:VCALENDAR
VERSION:2.0
PRODID:-//ChamberMaster//Event Calendar 2.0//EN
METHOD:PUBLISH
X-PUBLISHED-TTL:P3D
REFRESH-INTERVAL:P3D
CALSCALE:GREGORIAN
BEGIN:VEVENT
DTSTART:20150126T183000Z
DTEND:20150126T200000Z
X-MICROSOFT-CDO-ALLDAYEVENT:FALSE
SUMMARY:A Public Lecture by Daniel Russel in Bangkok
DESCRIPTION:Assistant Secretary of State for East Asian and  Pacific Affairs Daniel R. Russel will pay a brief visit to Bangkok next week.\n\n\n\nUS-ASEAN Business Council members are invited to attend a public lecture organized by The Institute of Security and International Studies (ISIS) moderated by our old friend Dr.Thitinan Pongsudhirak. \n\n\n\nMr. Russel's talk will address wide-ranging issues\, including the status of the United States' pivot and rebalance towards Asia. His lecture will be followed by a Q&A session.
X-ALT-DESC;FMTTYPE=text/html:Assistant Secretary of State for East Asian and &nbsp\;Pacific Affairs Daniel R. Russel will pay a brief visit to Bangkok next week.<br />\n<br />\nUS-ASEAN Business Council members are invited to attend a public lecture organized by The Institute of Security and International Studies (ISIS) moderated by our old friend Dr.Thitinan Pongsudhirak.&nbsp\;<br />\n<br />\nMr. Russel&rsquo\;s talk will address wide-ranging issues\, including the status of the United States&rsquo\; pivot and rebalance towards Asia. His lecture will be followed by a Q&amp\;A session.&nbsp\;
LOCATION:Room 105\, Maha Chulalongkorn Building\, Chulalongkorn University\, Bangkok
UID:e.9078.1358
SEQUENCE:3
DTSTAMP:20260419T205745Z
URL:http://usasean.memberzone.com/events/details/a-public-lecture-by-daniel-russel-in-bangkok-01-26-2015-1358
END:VEVENT

END:VCALENDAR
