BEGIN:VCALENDAR
VERSION:2.0
PRODID:-//ChamberMaster//Event Calendar 2.0//EN
METHOD:PUBLISH
X-PUBLISHED-TTL:P3D
REFRESH-INTERVAL:P3D
CALSCALE:GREGORIAN
BEGIN:VEVENT
DTSTART:20140603T173000Z
DTEND:20140603T190000Z
X-MICROSOFT-CDO-ALLDAYEVENT:FALSE
SUMMARY:A consultation on protection and enforcement of intellectual property rights
DESCRIPTION:Acting Director General Kulanee Issadisai of the Department of Intellectual Property will host a consultation between Thai law enforcement agencies and US/EU representatives on the improvement of protection and enforcement of intellectual property rights. The purpose of the meeting is to strengthen dialogue and cooperation among stakeholders on the protection and enforcement of intellectual property rights in Thailand.\n\n\n\nPlease contact Khun Saravadee (saravadee@usasean.org) for more information.
X-ALT-DESC;FMTTYPE=text/html:<span style="font-family:arial\,sans-serif\;"><span style="font-size:10.5pt\;">Acting Director General&nbsp\;Kulanee Issadisai of the Department of Intellectual Property will host a consultation between Thai law enforcement agencies and US/EU representatives on the improvement of protection and enforcement of intellectual property rights. The purpose of the meeting is to strengthen&nbsp\;dialogue&nbsp\;and cooperation among stakeholders on the protection and enforcement of intellectual property rights in Thailand.<br />\n<br />\nPlease contact Khun Saravadee&nbsp\;<a href="mailto:saravadee@usasean.org">(saravadee@usasean.org</a>) for more information.</span></span>
LOCATION:Office of Permanent Secretary Ministry of Commerce Nonthaburi 11000 Thailand
UID:e.9078.1147
SEQUENCE:3
DTSTAMP:20260420T110355Z
URL:http://usasean.memberzone.com/events/details/a-consultation-on-protection-and-enforcement-of-intellectual-property-rights-06-03-2014-1147
END:VEVENT

END:VCALENDAR
