BEGIN:VCALENDAR
VERSION:2.0
PRODID:-//ChamberMaster//Event Calendar 2.0//EN
METHOD:PUBLISH
X-PUBLISHED-TTL:P3D
REFRESH-INTERVAL:P3D
CALSCALE:GREGORIAN
BEGIN:VEVENT
DTSTART;VALUE=DATE:20130813
DTEND;VALUE=DATE:20130817
TRANSP:TRANSPARENT
X-MICROSOFT-CDO-ALLDAYEVENT:TRUE
SUMMARY:34th Senior Officials Meeting of ASEAN Ministers on Agriculture and Forestry
DESCRIPTION:
X-ALT-DESC;FMTTYPE=text/html:<quillbot-extension-portal></quillbot-extension-portal>
LOCATION:
UID:e.9078.838
SEQUENCE:3
DTSTAMP:20260421T193538Z
URL:http://usasean.memberzone.com/events/details/34th-senior-officials-meeting-of-asean-ministers-on-agriculture-and-forestry-08-13-2013-838
END:VEVENT

END:VCALENDAR
