BEGIN:VCALENDAR
VERSION:2.0
PRODID:-//ChamberMaster//Event Calendar 2.0//EN
METHOD:PUBLISH
X-PUBLISHED-TTL:P3D
REFRESH-INTERVAL:P3D
CALSCALE:GREGORIAN
BEGIN:VEVENT
DTSTART:20180925T010000Z
DTEND:20180925T020000Z
X-MICROSOFT-CDO-ALLDAYEVENT:FALSE
SUMMARY:2nd Planning Call for the 2018 Malaysia Business Mission
DESCRIPTION:Please join us for our second planning call for the 2018 Malaysia Business Mission (October 16-18).
X-ALT-DESC;FMTTYPE=text/html:<span style="font-family: &quot\;times new roman&quot\;\; font-size: 18px\;">Please join us for our second planning call for the 2018 Malaysia Business Mission (October 16-18).</span>
LOCATION:Call-in details and agenda will be distributed to registrants prior to the call.
UID:e.9078.7689
SEQUENCE:3
DTSTAMP:20260420T053735Z
URL:http://usasean.memberzone.com/events/details/2nd-planning-call-for-the-2018-malaysia-business-mission-7689
END:VEVENT

END:VCALENDAR
