BEGIN:VCALENDAR
VERSION:2.0
PRODID:-//ChamberMaster//Event Calendar 2.0//EN
METHOD:PUBLISH
X-PUBLISHED-TTL:P3D
REFRESH-INTERVAL:P3D
CALSCALE:GREGORIAN
BEGIN:VEVENT
DTSTART:20230811T010000Z
DTEND:20230811T021500Z
X-MICROSOFT-CDO-ALLDAYEVENT:FALSE
SUMMARY:2nd Planning Call for Business Mission to the 55th AEM ft. AUSTR Sarah Ellerman
DESCRIPTION:
X-ALT-DESC;FMTTYPE=text/html:
LOCATION:Virtual
UID:e.9078.9097
SEQUENCE:3
DTSTAMP:20260421T051244Z
URL:http://usasean.memberzone.com/events/details/2nd-planning-call-for-business-mission-to-the-55th-aem-ft-austr-sarah-ellerman-9097
END:VEVENT

END:VCALENDAR
