BEGIN:VCALENDAR
VERSION:2.0
PRODID:-//ChamberMaster//Event Calendar 2.0//EN
METHOD:PUBLISH
X-PUBLISHED-TTL:P3D
REFRESH-INTERVAL:P3D
CALSCALE:GREGORIAN
BEGIN:VEVENT
DTSTART;VALUE=DATE:20231106
DTEND;VALUE=DATE:20231111
TRANSP:TRANSPARENT
X-MICROSOFT-CDO-ALLDAYEVENT:TRUE
SUMMARY:29th ASEAN Transport Ministers Meeting
DESCRIPTION:
X-ALT-DESC;FMTTYPE=text/html:
LOCATION:Luang Prabang\, Lao PDR
UID:e.9078.9083
SEQUENCE:3
DTSTAMP:20260421T051317Z
URL:http://usasean.memberzone.com/events/details/29th-asean-transport-ministers-meeting-9083
END:VEVENT

END:VCALENDAR
